BEGIN:VCALENDAR
VERSION:2.0
PRODID:-//Urban Sketchers Switzerland - ECPv6.15.13//NONSGML v1.0//EN
CALSCALE:GREGORIAN
METHOD:PUBLISH
X-WR-CALNAME:Urban Sketchers Switzerland
X-ORIGINAL-URL:https://usk-switzerland.ch
X-WR-CALDESC:Eventi per Urban Sketchers Switzerland
REFRESH-INTERVAL;VALUE=DURATION:PT1H
X-Robots-Tag:noindex
X-PUBLISHED-TTL:PT1H
BEGIN:VTIMEZONE
TZID:Europe/Zurich
BEGIN:DAYLIGHT
TZOFFSETFROM:+0100
TZOFFSETTO:+0200
TZNAME:CEST
DTSTART:20250330T010000
END:DAYLIGHT
BEGIN:STANDARD
TZOFFSETFROM:+0200
TZOFFSETTO:+0100
TZNAME:CET
DTSTART:20251026T010000
END:STANDARD
BEGIN:DAYLIGHT
TZOFFSETFROM:+0100
TZOFFSETTO:+0200
TZNAME:CEST
DTSTART:20260329T010000
END:DAYLIGHT
BEGIN:STANDARD
TZOFFSETFROM:+0200
TZOFFSETTO:+0100
TZNAME:CET
DTSTART:20261025T010000
END:STANDARD
BEGIN:DAYLIGHT
TZOFFSETFROM:+0100
TZOFFSETTO:+0200
TZNAME:CEST
DTSTART:20270328T010000
END:DAYLIGHT
BEGIN:STANDARD
TZOFFSETFROM:+0200
TZOFFSETTO:+0100
TZNAME:CET
DTSTART:20271031T010000
END:STANDARD
END:VTIMEZONE
BEGIN:VEVENT
DTSTART;TZID=Europe/Zurich:20260222T100000
DTEND;TZID=Europe/Zurich:20260222T123000
DTSTAMP:20260420T025843
CREATED:20260216T112629Z
LAST-MODIFIED:20260216T112647Z
UID:8463-1771754400-1771763400@usk-switzerland.ch
SUMMARY: Schizzi dal passato: sessione al Museo di Archeologia e Storia
DESCRIPTION:Poiché potrebbe ancora fare freddo\, per il nostro quinto incontro vi proponiamo di ritrovarci e di cambiare epoca: \n\nDirezione Museo Cantonale di Archeologia e Storia – Palais de Rumine (ingresso gratuito). \nVenite a disegnare i resti del passato\, gli animali\, le silhouette antiche e i tesori nascosti\, per ridare loro vita nei nostri sketchbook.\nNon vediamo l’ora di rivedervi per questa nuova mattinata di condivisione e di schizzi! \nE per chi ha ancora voglia\, dopo possiamo prendere un caffè – proprio di fronte al Palais de Rumine\, allo Sleepy Bar Coffee Riponne.
URL:https://usk-switzerland.ch/it/event/schizzi-dal-passato-sessione-al-museo-di-archeologia-e-storia/
CATEGORIES:USkS Lausanne
ATTACH;FMTTYPE=image/jpeg:https://usk-switzerland.ch/wp-content/uploads/2026/02/archeo_usk.jpeg
END:VEVENT
BEGIN:VEVENT
DTSTART;TZID=Europe/Zurich:20260124T100000
DTEND;TZID=Europe/Zurich:20260124T120000
DTSTAMP:20260420T025843
CREATED:20260107T150643Z
LAST-MODIFIED:20260107T151438Z
UID:7975-1769248800-1769256000@usk-switzerland.ch
SUMMARY:Coffee & Sketching Lausanne - Gennaio 2026
DESCRIPTION:Ciao a tutti\, \n\nVi auguro un fantastico e felice anno nuovo 2026! 🥂 Per iniziare al meglio questo nuovo anno con USK Lausanne\, vi proponiamo di incontrarci sabato 24 gennaio alle ore 10:00 al Cocinelle Café per un caffè e un po’ di sketching insieme. Dopo\, potremo spostarci e fare altri schizzi dove ci porterà l’ispirazione. \nVi chiediamo di confermare la vostra partecipazione nel nostro gruppo WhatsApp\, così potremo prenotare un tavolo abbastanza grande per tutti.
URL:https://usk-switzerland.ch/it/event/coffee-sketching-lausanne-gennaio-2026/
CATEGORIES:USkS Lausanne
ATTACH;FMTTYPE=image/jpeg:https://usk-switzerland.ch/wp-content/uploads/2026/01/WhatsApp-Image-2026-01-05-at-15.13.18.jpeg
END:VEVENT
END:VCALENDAR