BEGIN:VCALENDAR
VERSION:2.0
PRODID:-//Urban Sketchers Switzerland - ECPv6.15.13//NONSGML v1.0//EN
CALSCALE:GREGORIAN
METHOD:PUBLISH
X-WR-CALNAME:Urban Sketchers Switzerland
X-ORIGINAL-URL:https://usk-switzerland.ch
X-WR-CALDESC:Eventi per Urban Sketchers Switzerland
REFRESH-INTERVAL;VALUE=DURATION:PT1H
X-Robots-Tag:noindex
X-PUBLISHED-TTL:PT1H
BEGIN:VTIMEZONE
TZID:Europe/Zurich
BEGIN:DAYLIGHT
TZOFFSETFROM:+0100
TZOFFSETTO:+0200
TZNAME:CEST
DTSTART:20250330T010000
END:DAYLIGHT
BEGIN:STANDARD
TZOFFSETFROM:+0200
TZOFFSETTO:+0100
TZNAME:CET
DTSTART:20251026T010000
END:STANDARD
BEGIN:DAYLIGHT
TZOFFSETFROM:+0100
TZOFFSETTO:+0200
TZNAME:CEST
DTSTART:20260329T010000
END:DAYLIGHT
BEGIN:STANDARD
TZOFFSETFROM:+0200
TZOFFSETTO:+0100
TZNAME:CET
DTSTART:20261025T010000
END:STANDARD
BEGIN:DAYLIGHT
TZOFFSETFROM:+0100
TZOFFSETTO:+0200
TZNAME:CEST
DTSTART:20270328T010000
END:DAYLIGHT
BEGIN:STANDARD
TZOFFSETFROM:+0200
TZOFFSETTO:+0100
TZNAME:CET
DTSTART:20271031T010000
END:STANDARD
END:VTIMEZONE
BEGIN:VEVENT
DTSTART;TZID=Europe/Zurich:20260328T110000
DTEND;TZID=Europe/Zurich:20260328T140000
DTSTAMP:20260419T221304
CREATED:20260328T094700Z
LAST-MODIFIED:20260406T155046Z
UID:9036-1774695600-1774706400@usk-switzerland.ch
SUMMARY:USk Geneva - March 2026 sketchwalk - Ruby Claire Hotel & Bar
DESCRIPTION:This month we’ll meet at the Ruby Claire Hotel! On Saturday 28th March at 11:00 CET 🏨\nEntry can be found by the passage Malbuisson\, Rue du Rhône 46\, 1204 Genève \nThe lobby bar (interior) and the rooftop bars (exterior) are available for sketching! ✍️ \nAs always\, please bring your sketching material:\n• Sketchbook/Paper pad\,\n• Pencils\, rubber\, pens\,\n• Watercolors\, brushes\,\n• Folding stool\, field easel\n• etc…
URL:https://usk-switzerland.ch/it/event/usk-geneva-march-2026-sketchwalk-ruby-claire-hotel-bar/
CATEGORIES:USkS Geneva
END:VEVENT
BEGIN:VEVENT
DTSTART;TZID=Europe/Zurich:20260228T110000
DTEND;TZID=Europe/Zurich:20260228T140000
DTSTAMP:20260419T221304
CREATED:20260222T110521Z
LAST-MODIFIED:20260222T110902Z
UID:8593-1772276400-1772287200@usk-switzerland.ch
SUMMARY:USk Geneva - Febbraio 2026 sketchwalk - IKEA Vernier
DESCRIPTION:Questo mese visiteremo IKEA Vernier\, sabato 28 febbraio alle 11:00. \nControllate il link alla posizione su Google Maps qui. Ci troveremo all’ingresso principale. \nL’idea è quella di catturare piccole scene di vita quotidiana: salotti arredati\, utensili da cucina e texture\, famiglie che provano divani\, confrontano lampade o ritratti di persone che si rilassano alla caffetteria. \nCome sempre\, vi preghiamo di portare il vostro materiale da disegno: \n\nTaccuino/blocco da disegno\nMatite\, gomma\, penne\nAcquerelli\, pennelli\nSgabello pieghevole\, cavalletto da campo\, ecc.\n\nCi vediamo sabato!
URL:https://usk-switzerland.ch/it/event/usk-geneva-febbraio-2026-sketchwalk-ikea-vernier/
CATEGORIES:USkS Geneva
ATTACH;FMTTYPE=image/png:https://usk-switzerland.ch/wp-content/uploads/2026/02/Feb26-uskgeneva.png
END:VEVENT
BEGIN:VEVENT
DTSTART;TZID=Europe/Zurich:20260131T110000
DTEND;TZID=Europe/Zurich:20260131T133000
DTSTAMP:20260419T221304
CREATED:20260129T104942Z
LAST-MODIFIED:20260129T105620Z
UID:8308-1769857200-1769866200@usk-switzerland.ch
SUMMARY:USk Geneva - Gennaio 2026 - Quartier Libre
DESCRIPTION:Questo mese visiteremo il Quartier Libre SIG\, sabato 31 gennaio alle 11:00. Ci incontreremo all’ingresso dell’edificio. \nL’idea è di entrare per vedere la mostra “Libre comme le Rhône” di Robert Hainard. L’ingresso è gratuito. \nL’edificio\, la mostra e la vista sul fiume sono anche ottimi spunti per disegnare!\nCome sempre\, portate con voi il materiale per disegnare: \nQuaderno da disegno/blocco di carta\nMatite\, gomma\, penne\nAcquerelli\, pennelli\nSgabello pieghevole\, cavalletto da campagna\, ecc. \nCi vediamo sabato!
URL:https://usk-switzerland.ch/it/event/usk-geneva-gennaio-2026-quartier-libre/
CATEGORIES:USkS Geneva
ATTACH;FMTTYPE=image/jpeg:https://usk-switzerland.ch/wp-content/uploads/2026/01/Monthly-USK-Geneva-1024-x-683-px1.jpg
END:VEVENT
END:VCALENDAR