BEGIN:VCALENDAR
VERSION:2.0
PRODID:-//Urban Sketchers Switzerland - ECPv6.15.13//NONSGML v1.0//EN
CALSCALE:GREGORIAN
METHOD:PUBLISH
X-WR-CALNAME:Urban Sketchers Switzerland
X-ORIGINAL-URL:https://usk-switzerland.ch
X-WR-CALDESC:Eventi per Urban Sketchers Switzerland
REFRESH-INTERVAL;VALUE=DURATION:PT1H
X-Robots-Tag:noindex
X-PUBLISHED-TTL:PT1H
BEGIN:VTIMEZONE
TZID:Europe/Zurich
BEGIN:DAYLIGHT
TZOFFSETFROM:+0100
TZOFFSETTO:+0200
TZNAME:CEST
DTSTART:20250330T010000
END:DAYLIGHT
BEGIN:STANDARD
TZOFFSETFROM:+0200
TZOFFSETTO:+0100
TZNAME:CET
DTSTART:20251026T010000
END:STANDARD
BEGIN:DAYLIGHT
TZOFFSETFROM:+0100
TZOFFSETTO:+0200
TZNAME:CEST
DTSTART:20260329T010000
END:DAYLIGHT
BEGIN:STANDARD
TZOFFSETFROM:+0200
TZOFFSETTO:+0100
TZNAME:CET
DTSTART:20261025T010000
END:STANDARD
BEGIN:DAYLIGHT
TZOFFSETFROM:+0100
TZOFFSETTO:+0200
TZNAME:CEST
DTSTART:20270328T010000
END:DAYLIGHT
BEGIN:STANDARD
TZOFFSETFROM:+0200
TZOFFSETTO:+0100
TZNAME:CET
DTSTART:20271031T010000
END:STANDARD
END:VTIMEZONE
BEGIN:VEVENT
DTSTART;TZID=Europe/Zurich:20260221T140000
DTEND;TZID=Europe/Zurich:20260221T160000
DTSTAMP:20260419T221230
CREATED:20260216T172826Z
LAST-MODIFIED:20260130T101255Z
UID:8258-1771682400-1771689600@usk-switzerland.ch
SUMMARY:Carnevale di Basilea\, mostra
DESCRIPTION:Due giorni prima del Morgestraich visitiamo la mostra permanente sul Carnevale di Basilea nel Museo delle Culture. Nelle sale storiche si respira l’atmosfera del carnevale. Sono ricche di oggetti per lo più storici che conferiscono al Carnevale di Basilea il suo carattere distintivo.\nÈ divertente disegnarli\, perché invitano all’esagerazione\, alla caricatura. Anche i bambini si divertono qui. Link: informazioni sulla mostra sul Carnevale di Basilea \nPartecipazione solo previa registrazione.\nLa mostra si trova in un edificio adiacente al museo\, dove lo spazio è limitato. Il numero dei partecipanti e la durata della visita sono quindi limitati ed è necessario registrarsi presso Herrat (indirizzo e-mail: herrat-usk@bluewin.ch).\nFormeremo due gruppi. Ogni gruppo potrà rimanere per un’ora\, con un massimo di 10 persone per gruppo:\nGruppo 1: 14:00-15:00\nGruppo 2: 15:00-16:00\nLe prime 10 iscrizioni saranno inserite nel primo gruppo dalle 14:00 alle 15:00\, le successive nel secondo gruppo. Se si iscrivono solo 10 persone\, queste potranno rimanere per tutte e due le ore. \nPunti di ritrovo\nSabato 21 febbraio 2026\, Museo delle Culture di Basilea\, Münsterplatz 20 \n1° gruppo: ore 13.40 nella sala d’ingresso presso la cassa\n2° gruppo: ore 14.40 nella sala d’ingresso presso la cassa\nEntrambi i gruppi: ore 16:00 visita degli schizzi\, sempre nell’atrio d’ingresso presso la cassa. \nUlteriori informazioni\nPortare con sé uno sgabello pieghevole\, non sono ammessi liquidi nel museo\, quindi nemmeno materiali per disegnare con colori a base di acqua\, Sale espositive non accessibili (assenza di ascensore)
URL:https://usk-switzerland.ch/it/event/carnevale-di-basilea-mostra/
CATEGORIES:USkS Basilea
ATTACH;FMTTYPE=image/jpeg:https://usk-switzerland.ch/wp-content/uploads/2026/01/Skizze-Ankuendigung_16-9_2-scaled.jpg
END:VEVENT
END:VCALENDAR