BEGIN:VCALENDAR
VERSION:2.0
PRODID:-//Urban Sketchers Switzerland - ECPv6.15.13//NONSGML v1.0//EN
CALSCALE:GREGORIAN
METHOD:PUBLISH
X-WR-CALNAME:Urban Sketchers Switzerland
X-ORIGINAL-URL:https://usk-switzerland.ch
X-WR-CALDESC:Eventi per Urban Sketchers Switzerland
REFRESH-INTERVAL;VALUE=DURATION:PT1H
X-Robots-Tag:noindex
X-PUBLISHED-TTL:PT1H
BEGIN:VTIMEZONE
TZID:Europe/Zurich
BEGIN:DAYLIGHT
TZOFFSETFROM:+0100
TZOFFSETTO:+0200
TZNAME:CEST
DTSTART:20250330T010000
END:DAYLIGHT
BEGIN:STANDARD
TZOFFSETFROM:+0200
TZOFFSETTO:+0100
TZNAME:CET
DTSTART:20251026T010000
END:STANDARD
BEGIN:DAYLIGHT
TZOFFSETFROM:+0100
TZOFFSETTO:+0200
TZNAME:CEST
DTSTART:20260329T010000
END:DAYLIGHT
BEGIN:STANDARD
TZOFFSETFROM:+0200
TZOFFSETTO:+0100
TZNAME:CET
DTSTART:20261025T010000
END:STANDARD
BEGIN:DAYLIGHT
TZOFFSETFROM:+0100
TZOFFSETTO:+0200
TZNAME:CEST
DTSTART:20270328T010000
END:DAYLIGHT
BEGIN:STANDARD
TZOFFSETFROM:+0200
TZOFFSETTO:+0100
TZNAME:CET
DTSTART:20271031T010000
END:STANDARD
END:VTIMEZONE
BEGIN:VEVENT
DTSTART;TZID=Europe/Zurich:20260228T110000
DTEND;TZID=Europe/Zurich:20260228T140000
DTSTAMP:20260419T203630
CREATED:20260222T110521Z
LAST-MODIFIED:20260222T110902Z
UID:8593-1772276400-1772287200@usk-switzerland.ch
SUMMARY:USk Geneva - Febbraio 2026 sketchwalk - IKEA Vernier
DESCRIPTION:Questo mese visiteremo IKEA Vernier\, sabato 28 febbraio alle 11:00. \nControllate il link alla posizione su Google Maps qui. Ci troveremo all’ingresso principale. \nL’idea è quella di catturare piccole scene di vita quotidiana: salotti arredati\, utensili da cucina e texture\, famiglie che provano divani\, confrontano lampade o ritratti di persone che si rilassano alla caffetteria. \nCome sempre\, vi preghiamo di portare il vostro materiale da disegno: \n\nTaccuino/blocco da disegno\nMatite\, gomma\, penne\nAcquerelli\, pennelli\nSgabello pieghevole\, cavalletto da campo\, ecc.\n\nCi vediamo sabato!
URL:https://usk-switzerland.ch/it/event/usk-geneva-febbraio-2026-sketchwalk-ikea-vernier/
CATEGORIES:USkS Geneva
ATTACH;FMTTYPE=image/png:https://usk-switzerland.ch/wp-content/uploads/2026/02/Feb26-uskgeneva.png
END:VEVENT
END:VCALENDAR