BEGIN:VCALENDAR
VERSION:2.0
PRODID:-//Urban Sketchers Switzerland - ECPv6.15.13//NONSGML v1.0//EN
CALSCALE:GREGORIAN
METHOD:PUBLISH
X-ORIGINAL-URL:https://usk-switzerland.ch
X-WR-CALDESC:Eventi per Urban Sketchers Switzerland
REFRESH-INTERVAL;VALUE=DURATION:PT1H
X-Robots-Tag:noindex
X-PUBLISHED-TTL:PT1H
BEGIN:VTIMEZONE
TZID:Europe/Zurich
BEGIN:DAYLIGHT
TZOFFSETFROM:+0100
TZOFFSETTO:+0200
TZNAME:CEST
DTSTART:20250330T010000
END:DAYLIGHT
BEGIN:STANDARD
TZOFFSETFROM:+0200
TZOFFSETTO:+0100
TZNAME:CET
DTSTART:20251026T010000
END:STANDARD
BEGIN:DAYLIGHT
TZOFFSETFROM:+0100
TZOFFSETTO:+0200
TZNAME:CEST
DTSTART:20260329T010000
END:DAYLIGHT
BEGIN:STANDARD
TZOFFSETFROM:+0200
TZOFFSETTO:+0100
TZNAME:CET
DTSTART:20261025T010000
END:STANDARD
BEGIN:DAYLIGHT
TZOFFSETFROM:+0100
TZOFFSETTO:+0200
TZNAME:CEST
DTSTART:20270328T010000
END:DAYLIGHT
BEGIN:STANDARD
TZOFFSETFROM:+0200
TZOFFSETTO:+0100
TZNAME:CET
DTSTART:20271031T010000
END:STANDARD
END:VTIMEZONE
BEGIN:VEVENT
DTSTART;TZID=Europe/Zurich:20260224T150000
DTEND;TZID=Europe/Zurich:20260224T150000
DTSTAMP:20260419T204151
CREATED:20260214T173105Z
LAST-MODIFIED:20260217T113001Z
UID:8279-1771945200-1771945200@usk-switzerland.ch
SUMMARY:Dal vivo al Martedì di Carnevale di Basilea
DESCRIPTION:Nel bel mezzo dei festeggiamenti carnevaleschi\, nel vivace e caotico Martedì di Carnevale dei bambini\, i piccoli gruppi (Schyyssdräggziigli). Link alle informazioni sul Martedì di Carnevale: https://www.baslerfasnacht.info/basler-fasnacht/dienstag/nachmittag \nPunto d’incontro: ore 15.00 Basilea Leonhardskirche\, all’ingresso della chiesa. \nAttenzione: in questo periodo il centro città è affollato e non circolano tram. \nIo non parteciperò a questo incontro\, ma sarò felice di vedere i vostri schizzi (da inviare via e-mail a herrat-usk@bluewin.ch). Cari saluti Herrat
URL:https://usk-switzerland.ch/it/event/dal-vivo-al-martedi-di-carnevale-di-basilea/
CATEGORIES:USkS Basilea
ATTACH;FMTTYPE=image/jpeg:https://usk-switzerland.ch/wp-content/uploads/2026/01/Skizze-Ankuendigung_16-9_2-scaled.jpg
END:VEVENT
END:VCALENDAR