BEGIN:VCALENDAR
VERSION:2.0
PRODID:-//Urban Sketchers Switzerland - ECPv6.15.13//NONSGML v1.0//EN
CALSCALE:GREGORIAN
METHOD:PUBLISH
X-WR-CALNAME:Urban Sketchers Switzerland
X-ORIGINAL-URL:https://usk-switzerland.ch
X-WR-CALDESC:Évènements pour Urban Sketchers Switzerland
REFRESH-INTERVAL;VALUE=DURATION:PT1H
X-Robots-Tag:noindex
X-PUBLISHED-TTL:PT1H
BEGIN:VTIMEZONE
TZID:Europe/Zurich
BEGIN:DAYLIGHT
TZOFFSETFROM:+0100
TZOFFSETTO:+0200
TZNAME:CEST
DTSTART:20240331T010000
END:DAYLIGHT
BEGIN:STANDARD
TZOFFSETFROM:+0200
TZOFFSETTO:+0100
TZNAME:CET
DTSTART:20241027T010000
END:STANDARD
BEGIN:DAYLIGHT
TZOFFSETFROM:+0100
TZOFFSETTO:+0200
TZNAME:CEST
DTSTART:20250330T010000
END:DAYLIGHT
BEGIN:STANDARD
TZOFFSETFROM:+0200
TZOFFSETTO:+0100
TZNAME:CET
DTSTART:20251026T010000
END:STANDARD
BEGIN:DAYLIGHT
TZOFFSETFROM:+0100
TZOFFSETTO:+0200
TZNAME:CEST
DTSTART:20260329T010000
END:DAYLIGHT
BEGIN:STANDARD
TZOFFSETFROM:+0200
TZOFFSETTO:+0100
TZNAME:CET
DTSTART:20261025T010000
END:STANDARD
BEGIN:DAYLIGHT
TZOFFSETFROM:+0100
TZOFFSETTO:+0200
TZNAME:CEST
DTSTART:20270328T010000
END:DAYLIGHT
BEGIN:STANDARD
TZOFFSETFROM:+0200
TZOFFSETTO:+0100
TZNAME:CET
DTSTART:20271031T010000
END:STANDARD
END:VTIMEZONE
BEGIN:VEVENT
DTSTART;TZID=Europe/Zurich:20260131T110000
DTEND;TZID=Europe/Zurich:20260131T133000
DTSTAMP:20260420T025341
CREATED:20260129T104942Z
LAST-MODIFIED:20260129T105833Z
UID:8294-1769857200-1769866200@usk-switzerland.ch
SUMMARY:USk Geneva - Janvier 2026 sketchwalk - Quartier Libre
DESCRIPTION:En janvier 2026\, nous nous retrouverons au bâtiment Quartier Libre SIG au Pont de la Machine 1\, le samedi 31 Janvier à 11h. Rendez-vous a l’entrée du bâtiment. L’idée c’est de profiter de l’exposition “Libre comme le Rhône” de Robert Hainard\, l’entrée est libre. \nLe bâtiment et la vue de la rivière se prêtent aussi au croquis. Comme toujours\, veuillez amener votre matériel de dessin: \n\nCarnet/Bloc de papier\nCrayons\, gomme\, stylos\nAquarelle\, pinceaux\nTabouret pliant\, chevalet de campagne\,  etc…\n\nÀ samedi!
URL:https://usk-switzerland.ch/fr/event/usk-geneva-janvier-2026-sketchwalk-quartier-libre/
CATEGORIES:USkS Genève
ATTACH;FMTTYPE=image/jpeg:https://usk-switzerland.ch/wp-content/uploads/2026/01/Monthly-USK-Geneva-1024-x-683-px1.jpg
END:VEVENT
BEGIN:VEVENT
DTSTART;TZID=Europe/Zurich:20260125T140000
DTEND;TZID=Europe/Zurich:20260125T160000
DTSTAMP:20260420T025341
CREATED:20260122T193257Z
LAST-MODIFIED:20260122T193257Z
UID:8211-1769349600-1769356800@usk-switzerland.ch
SUMMARY:Urban Sketchers Treffen in Biel/Bienne
DESCRIPTION:Diesen Sonntag zeichnen wir im Neuen Museum Biel/Bienne NMB im Gebäude Neuhaus. Treffpunkt ist um 14 Uhr vor bzw. im Eingangsbereich (im Reihengebäude\, nicht im freistehenden Gebäude).\nOrganisatorisches: Der Eintritt wird uns vom Museum offertiert und es stehen Hocker zur Verfügung. Die Rucksäcke dürfen mit in de Ausstellung oder in die Schliessfächer. Im Bereich der originalen Wohnung dürfen keine nassen Materialien verwendet werden bzw. kein offenes Wasser.\nZeichnungsort: Das NMB zeigt vor allem die Geschichte der Stadt Biel und deren Standpunkt in der Welt. So gibt es Ausstellungsbereiche\, die die Uhrenindustrie behandeln\, die Veloindustrie oder auch die Röschtigraben-Thematik. Auch Funde der Pfahlbauer aus der Region werden beleuchtet. Diverse Künstler aus der Umgebung werden gezeigt oder auch die Werke von Robert und Karl Walser. In einer originalen bürgerlichen Wohnung des 19. Jahrhunderts lässt sich in die damalige Zeit eintauchen und im RobLab kann man sich in die Werke der Malerfamilie Robert vertiefen.In Laufnähe befindet sich die Schüss-Allée\, die Innenstadt\, die französische Kirche sowie etwas weiter die Altstadt.
URL:https://usk-switzerland.ch/fr/event/urban-sketchers-treffen-in-biel-bienne/
CATEGORIES:USkS Biel/Bienne
ATTACH;FMTTYPE=image/jpeg:https://usk-switzerland.ch/wp-content/uploads/2026/01/IMG_0650-1.jpeg
END:VEVENT
BEGIN:VEVENT
DTSTART;TZID=Europe/Zurich:20260125T100000
DTEND;TZID=Europe/Zurich:20260125T120000
DTSTAMP:20260420T025341
CREATED:20260114T152836Z
LAST-MODIFIED:20260114T152836Z
UID:8061-1769335200-1769342400@usk-switzerland.ch
SUMMARY:Sonntag 25. Januar 2026\, Café Oana Surfhalle Ebikon
DESCRIPTION:Wärme\, Wellen und viel Action. So sieht unser Winter-Sketchen im Januar aus. Wir zeichnen in der Oana Indoor-Surfhalle in Ebikon. Hier gibt es für jeden etwas. Zum Beispiel ein hübsches Café (für Architektur- und Kaffee-Fans)\, viele Pflanzen (bewegen sich nicht) oder Zuschauer (bewegen sich wenig) und wellenreitende Surfer (für alle\, die Herausforderungen lieben!). \nDer Raum ist hell und gross\, es gibt viele Sitzgelegenheiten rund um das Becken. \nKein Eintritt! \nAnfahrt mit ÖV:\nMit dem Zug S1 ab Luzern (10 Minuten)\, die Haltestelle «Buchrain» ist gleich bei der Mall.\nMit Bus 1 bis Haltestelle «Fildern»\, gleich neben der Indoor-Surfhalle. \nWann: Sonntag 25. Januar 2026\nZeit: von 10:00 bis 12:00\nWo: Oana Surf\, Indoor Surf-Welle\, Ebikon \nDas Treffen ist für alle\, die gerne zeichnen. Man muss sich nicht anmelden und es kostet auch nichts. Einfach eigenes Zeichen-Material mitbringen und los geht’s.
URL:https://usk-switzerland.ch/fr/event/sonntag-25-januar-2026-cafe-oana-surfhalle-ebikon/
CATEGORIES:USkS Lucerne
ATTACH;FMTTYPE=image/jpeg:https://usk-switzerland.ch/wp-content/uploads/2026/01/Blog_surfhalle_26.jpg
END:VEVENT
BEGIN:VEVENT
DTSTART;TZID=Europe/Zurich:20260124T140000
DTEND;TZID=Europe/Zurich:20260124T160000
DTSTAMP:20260420T025341
CREATED:20260104T174026Z
LAST-MODIFIED:20260104T174205Z
UID:7877-1769263200-1769270400@usk-switzerland.ch
SUMMARY:Sketchwalk à la Rue de Lausanne (Fribourg)
DESCRIPTION:Hello Toi !\nNotre prochain sketchwalk aura lieu le 24 janvier 26 dans la «  Rue de Lausanne d’après les Fêtes de fin d’année ». \nRendez-vous à 14h devant le bazar de la Place Georges Python. En principe nous terminerons à 16h avec la traditionnelle exposition de nos oeuvres. \n\n\n\n• Pour tout style\, tout niveau et tout âge. \n• Avec zéro inscription\, zéro franc et zéro jugement \n• Manifeste de l’urban sketcher \n\n\nAvec coeur\n\n\n\n\n\n\n\n\n\n\n\n\n\n\n\n\n\n\nJosy\n\n079 237 47 85\n\n\n\n\n\n\n\n\n\n\n\n\n\n\n\n\n\n\n\nAnnexe : La Rue de Lausanne \n\n\n\n\n\n\n\n\n\n\n\n\n\n\n\n\n\n\nCette rue commerçante emblématique de la ville de Fribourg a été aménagée au Moyen Âge comme axe de sortie de la ville vers Lausanne et le Jura. Elle fut bordée dès le XIV siècle de maisons patriciennes et d’immeubles marchands. Elle débute au haut de la pente avec l’Evêché et se termine en s’ouvrant sur la Place «  Nova Friburgo »\, ainsi nommée en l’honneur des centaines de Fribourgeois qui furent forcés par la disette à émigrer au Brésil pour créer la colonie Nova Friburgo dans des conditions extrêmement difficiles. Photos prises en ce premier jour de l’An.
URL:https://usk-switzerland.ch/fr/event/sketchwalk-a-la-rue-de-lausanne-fribourg/
CATEGORIES:USkS Fribourg
ATTACH;FMTTYPE=image/jpeg:https://usk-switzerland.ch/wp-content/uploads/2026/01/20260101_125940_resized.jpg
END:VEVENT
BEGIN:VEVENT
DTSTART;TZID=Europe/Zurich:20260124T100000
DTEND;TZID=Europe/Zurich:20260124T120000
DTSTAMP:20260420T025341
CREATED:20260107T150643Z
LAST-MODIFIED:20260107T150643Z
UID:7964-1769248800-1769256000@usk-switzerland.ch
SUMMARY:Café & Sketching Lausanne - Janvier 2026
DESCRIPTION:Bonjour tout le monde\, \nune toute belle et bonne année 2026 à vous tous 🥂 et pour bien commencer cette nouvelle année usk lausanne\, nous vous proposons de se retrouver le samedi 24 janvier à 10h à la cocinelle-café pour un café et sketching ensemble\, puis on pourra se déplacer pour aller faire d’autres sketchs selon les envies. \nMerci de confirmer votre participation dans notre groupe WhatsApp  de cette façon nous pourrons réserver une table avec de la place pour tous. \n 
URL:https://usk-switzerland.ch/fr/event/cafe-sketching-lausanne-janvier-2026/
CATEGORIES:USkS Lausanne
ATTACH;FMTTYPE=image/jpeg:https://usk-switzerland.ch/wp-content/uploads/2026/01/WhatsApp-Image-2026-01-05-at-15.13.18.jpeg
END:VEVENT
BEGIN:VEVENT
DTSTART;TZID=Europe/Zurich:20260110T103000
DTEND;TZID=Europe/Zurich:20260110T140000
DTSTAMP:20260420T025341
CREATED:20251215T115450Z
LAST-MODIFIED:20251218T150018Z
UID:7469-1768041000-1768053600@usk-switzerland.ch
SUMMARY:Sketchcrawl at the Spreitenbach Shopping Centre
DESCRIPTION:Sketchcrawl at the Spreitenbach Shopping Centre \nWe will be sketching the hustle and bustle in the shopping centre. \nWe will meet on the shopping centre side on the upper floor\, right by the entrance to the Passarelle\, at 10.30 a.m. \nFrom here\, you can spread out and sketch whatever you like: the hustle and bustle of people\, the architecture\, the shopping atmosphere in January… \n  \nThe upcoming sketch crawls of Urban Sketches Aargau are planned for: \n14 February\, 14 March\, 18 April and 17 May 2026
URL:https://usk-switzerland.ch/fr/event/sketchcrawl-at-the-spreitenbach-shopping-centre/
CATEGORIES:USkS Aargau
ATTACH;FMTTYPE=image/png:https://usk-switzerland.ch/wp-content/uploads/2025/12/Sketchcrawl-Januar-1024-x-576-px.png
END:VEVENT
BEGIN:VEVENT
DTSTART;TZID=Europe/Zurich:20260110T093000
DTEND;TZID=Europe/Zurich:20260110T150000
DTSTAMP:20260420T025341
CREATED:20260105T184033Z
LAST-MODIFIED:20260106T084625Z
UID:7830-1768037400-1768057200@usk-switzerland.ch
SUMMARY:Samedi 10 janvier 2026: Sketchcrawl Basel au Ballet de Bâle
DESCRIPTION:Nous sommes invités au Ballet de Bâle\, où nous assistons à l’entraînement et aux répétitions d’une nouvelle production qui sera présentée en première le 5 février. Cette représentation des deux chorégraphes prometteuses Anne Jung et Lilit Hakobyan s’intitule «New Works». Voici le lien vers les informations du Théâtre de Bâle: https://www.theater-basel.ch/de/newworkshakobyanjung \nRendez-vous: 9h30 au Café La Manufacture\, Elisabethenstrasse 18 (lien Maps: Café La Manufacture)\nBrève discussion sur les différentes façons de mettre le corps en mouvement.\n10h00 Départ pour le théâtre\n10h30 Début de l’entraînement de ballet\, suivi de répétitions\n14h00 Fin \nDéroulement: d’abord 45 minutes d’entraînement dans la salle de ballet; à partir de 11h30\, répétitions parallèles dans deux salles de répétition\, avec 15 min de pause pendant laquelle nous pourrons nous restaurer (pas dans la salle de répétition). Nous devons retirer nos chaussures lorsque nous entrons sur le tapis de danse. \n14h15\, nous nous retrouvons dans le foyer public du Théâtre de Bâle pour regarder les esquisses réalisées. \nFoto: Rubén Bañol
URL:https://usk-switzerland.ch/fr/event/samedi-10-janvier-2026-sketchcrawl-bale-au-ballet-de-bale/
CATEGORIES:USkS Bâle
ATTACH;FMTTYPE=image/jpeg:https://usk-switzerland.ch/wp-content/uploads/2025/12/Ballet-Class_credit-Ruben-Banol.jpg
END:VEVENT
BEGIN:VEVENT
DTSTART;TZID=Europe/Zurich:20251228T100000
DTEND;TZID=Europe/Zurich:20251228T130000
DTSTAMP:20260420T025341
CREATED:20251220T173131Z
LAST-MODIFIED:20251220T175829Z
UID:7633-1766916000-1766926800@usk-switzerland.ch
SUMMARY:PorträtSKETCH December 2025
DESCRIPTION:Drawing people is an important part of urban sketching and a challenge for many. That’s why we practice both quick and sketchy drawing and precise and detailed drawing of people at our meetings by sketching each other. The poses last from 2 to a maximum of 15 minutes\, as agreed in advance\, and portrait sitting is not compulsory. There are regular breaks in between to lay out the drawings and exchange ideas. Everyone is welcome\, and participation is free of charge. \nWe meet in the spacious and bright stairwell of the old embroidery factory (alte Stickerei) in Wittenbach. Sometimes a technique is specified\, but in most cases everyone can and should draw as they wish. Seating and materials (paper\, charcoal\, colored pencils\, pens\, etc.) are available\, but please bring any special materials yourself. Participation is free of charge.
URL:https://usk-switzerland.ch/fr/event/portraetsketch-december-2025/
CATEGORIES:USkS Saint-Gall
ATTACH;FMTTYPE=image/jpeg:https://usk-switzerland.ch/wp-content/uploads/2025/12/Beitragbild_PSK_1024x576px.jpg
END:VEVENT
BEGIN:VEVENT
DTSTART;TZID=Europe/Zurich:20251213T140000
DTEND;TZID=Europe/Zurich:20251213T160000
DTSTAMP:20260420T025341
CREATED:20251212T173603Z
LAST-MODIFIED:20251230T183452Z
UID:7370-1765634400-1765641600@usk-switzerland.ch
SUMMARY:Sketchcrawl dans la gare CFF de Bâle
DESCRIPTION:Nous nous retrouvons de 14h00 à 16h00 pour la dernière fois cette année afin de dessiner : \nà 14h00 dans la gare CFF de Bâle\, au « point de rencontre » dans le hall des guichets (lien) \nIl y a beaucoup de motifs différents. Par exemple\, sur la passerelle à gauche de l’escalator\, on trouve un endroit protégé d’où l’on peut dessiner les passants\, les personnes qui font une pause sur les sièges ou les magasins où s’arrêtent les voyageurs. Le hall des guichets lui-même est également un bel espace avec ses peintures murales des années 1920\, que l’on peut bien voir depuis la passerelle. Actuellement\, la gare est décorée pour Noël. D’autres motifs sont l’aile ouest\, le hall menant à la gare française\, des salles historiques préservées qui servent aujourd’hui à la vente\, et bien d’autres encore. \nNous nous retrouverons à 16 heures pour voir les dessins réalisés. Nous déciderons du lieu sur place.
URL:https://usk-switzerland.ch/fr/event/sketchcrawl-dans-la-gare-cff-de-bale/
CATEGORIES:USkS Bâle
END:VEVENT
BEGIN:VEVENT
DTSTART;TZID=Europe/Zurich:20251213T113000
DTEND;TZID=Europe/Zurich:20251213T133000
DTSTAMP:20260420T025341
CREATED:20251118T150136Z
LAST-MODIFIED:20260406T150901Z
UID:6889-1765625400-1765632600@usk-switzerland.ch
SUMMARY:Samedi 13 décembre 2025\, viens dessiner avec nous à la salle de grimpe C+ à Colombier
DESCRIPTION:Notre prochaine rencontre aura lieu à la salle d’escalade C+ à Colombier. Allez on tente de courser des personnages suspendus à leur corde? Il y a aussi de quoi s’installer au bistro\, les buveurs de café gigotent sans doute un peu moins que les grimpeurs! \nRDV à 11h devant l’entrée. L’entrée est gratuite pour les croqueurs (pas pour grimper bien sûr). \nIl y a un parking devant la salle mais elle est accessible avec le tram du littoral\, arrêt Colombier Les Chézards. \nC’est gratuit\, sans pression\, chacun/chacune prend son matériel préféré et dessine ce qui l’inspire et à la fin on adore mettre ensemble toutes les créations pour admirer\, partager et immortaliser avec une photo de groupe.
URL:https://usk-switzerland.ch/fr/event/samedi-13-decembre-2025-viens-dessiner-avec-nous-a-la-salle-de-grimpe-c-a-colombier/
CATEGORIES:USkS Neuchâtel
ATTACH;FMTTYPE=image/jpeg:https://usk-switzerland.ch/wp-content/uploads/2025/11/c-salle-pano-2_800-1.jpg
END:VEVENT
BEGIN:VEVENT
DTSTART;TZID=Europe/Zurich:20251213T100000
DTEND;TZID=Europe/Zurich:20251213T233000
DTSTAMP:20260420T025341
CREATED:20251126T194844Z
LAST-MODIFIED:20251126T203023Z
UID:7093-1765620000-1765668600@usk-switzerland.ch
SUMMARY:Sketchcrawl in Locarno
DESCRIPTION:This December we meet in my atelier in Locarno. We are having a special meeting before Christmas\, a more family-like gathering to close a beautiful year of meetings and drawings. \nTime: 10.00-11.30 am \nDay: Saturday 13 December \nLocation: Via Luigi Appiani 1\, (not to be confused with Vicolo Appiani) \nFor those coming by train\, from Locarno Station take bus number 7 and get off at Piazza Castello. Walk towards the Hospital la Carità. My atelier is opposite the hospital emergency room. The journey time is 5 minutes from Piazza Castello \nAn alternative is to take bus 3 (lane B) direction Brione sopra Minusio. Get off at the stop Chiesa S. Antonio.Behind the church S. Antonio is via Appiani. On foot you arrive in 1 minute.If you have problems finding the address\, call me on 076 5350164.The meeting is open to all those who love to draw. It is not necessary to register and costs nothing. Just bring your drawing materials and off you go. \n 
URL:https://usk-switzerland.ch/fr/event/sketchcrawl-sabato-13-dicembre-locarno/
CATEGORIES:USkS Locarno
ATTACH;FMTTYPE=image/jpeg:https://usk-switzerland.ch/wp-content/uploads/2025/11/USK-dicembre-25-horizontal-1.jpg
END:VEVENT
BEGIN:VEVENT
DTSTART;TZID=Europe/Zurich:20251130T100000
DTEND;TZID=Europe/Zurich:20251130T120000
DTSTAMP:20260420T025341
CREATED:20251111T201037Z
LAST-MODIFIED:20251112T135716Z
UID:6485-1764496800-1764504000@usk-switzerland.ch
SUMMARY:Dimanche 30 novembre 2025\, LUZ Seebistro et Marché de Noël de Rudolf\, Inseli Lucerne
DESCRIPTION:Ende November gibt es «2 für 1». Wir zeichnen am Weihnachtsmarkt auf dem Inseli (hinter dem KKL). Doch weil der Markt erst um 11 Uhr öffnet\, zeichnen wir uns vorher an der Wärme ein. Wir treffen uns um 10 Uhr vor dem LUZ Seebistro am See beim Bahnhof. \nZieht euch warm an! \nWann: Sonntag\, 30. November 2025\nZeit: von 10:00 bis 12:00\nWo: LUZ Seebistro und Rudolfs Weihnachtsmarkt\, Inseli Luzern\nTreffpunkt: beim LUZ Seebistro\, am See \nDas Treffen ist für alle\, die gerne zeichnen. Man muss sich nicht anmelden und es kostet auch nichts. Einfach eigenes Zeichen-Material mitbringen und los geht’s.
URL:https://usk-switzerland.ch/fr/event/sonntag-30-november-2025-luz-seebistro-und-rudolfs-weihnachtsmarkt-inseli-luzern/
CATEGORIES:USkS Lucerne
ATTACH;FMTTYPE=image/jpeg:https://usk-switzerland.ch/wp-content/uploads/2025/11/vorlage_Blog-Lu.jpg
END:VEVENT
END:VCALENDAR