BEGIN:VCALENDAR
VERSION:2.0
PRODID:-//Urban Sketchers Switzerland - ECPv6.15.13//NONSGML v1.0//EN
CALSCALE:GREGORIAN
METHOD:PUBLISH
X-ORIGINAL-URL:https://usk-switzerland.ch
X-WR-CALDESC:Évènements pour Urban Sketchers Switzerland
REFRESH-INTERVAL;VALUE=DURATION:PT1H
X-Robots-Tag:noindex
X-PUBLISHED-TTL:PT1H
BEGIN:VTIMEZONE
TZID:Europe/Zurich
BEGIN:DAYLIGHT
TZOFFSETFROM:+0100
TZOFFSETTO:+0200
TZNAME:CEST
DTSTART:20250330T010000
END:DAYLIGHT
BEGIN:STANDARD
TZOFFSETFROM:+0200
TZOFFSETTO:+0100
TZNAME:CET
DTSTART:20251026T010000
END:STANDARD
BEGIN:DAYLIGHT
TZOFFSETFROM:+0100
TZOFFSETTO:+0200
TZNAME:CEST
DTSTART:20260329T010000
END:DAYLIGHT
BEGIN:STANDARD
TZOFFSETFROM:+0200
TZOFFSETTO:+0100
TZNAME:CET
DTSTART:20261025T010000
END:STANDARD
BEGIN:DAYLIGHT
TZOFFSETFROM:+0100
TZOFFSETTO:+0200
TZNAME:CEST
DTSTART:20270328T010000
END:DAYLIGHT
BEGIN:STANDARD
TZOFFSETFROM:+0200
TZOFFSETTO:+0100
TZNAME:CET
DTSTART:20271031T010000
END:STANDARD
END:VTIMEZONE
BEGIN:VEVENT
DTSTART;TZID=Europe/Zurich:20260328T110000
DTEND;TZID=Europe/Zurich:20260328T140000
DTSTAMP:20260420T030026
CREATED:20260328T094700Z
LAST-MODIFIED:20260328T094903Z
UID:8968-1774695600-1774706400@usk-switzerland.ch
SUMMARY:USk Geneva - Mars 2026 sketchwalk - Ruby Claire Hotel & Bar
DESCRIPTION:Nous nous retrouverons le samedi 28 mars à 11h à l’hôtel Ruby Claire. Entrée par le passage Malbuisson\, Rue du Rhône 46\, 1204 Genève. \nLe bar du hall (intérieur) et le rooftop (extérieur) sont disponibles pour le croquis ! ✍️ \nComme toujours\, veuillez amener votre matériel de dessin: \n• Bloc de papier/Journal\,\n• Crayons\, gomme\, stylors\,\n• Aquarelle\, pinceaux\,\n• Tabouret pliant\, chevalet de campagne\,\n• etc…
URL:https://usk-switzerland.ch/fr/event/usk-geneva-mars-2026-sketchwalk-ruby-claire-hotel-bar/
CATEGORIES:USkS Genève
END:VEVENT
BEGIN:VEVENT
DTSTART;TZID=Europe/Zurich:20260228T110000
DTEND;TZID=Europe/Zurich:20260228T140000
DTSTAMP:20260420T030026
CREATED:20260222T110521Z
LAST-MODIFIED:20260222T114214Z
UID:8589-1772276400-1772287200@usk-switzerland.ch
SUMMARY:USk Geneva - Février 2026 sketchwalk - IKEA Vernier
DESCRIPTION:Ce mois-ci\, nous visiterons IKEA Vernier\, le samedi 28 février à 11 h. \nConsultez le lien vers l’emplacement sur Google Maps ici. Nous nous retrouverons à l’entrée principale. \nL’idée est de capturer de petites scènes du quotidien : des salons stylisés\, des utensiles de cuisine\, des textures et motifs des tissus\, des familles essayant des canapés\, comparant des lampes\, ou des portraits de personnes se détendant à la cafétéria. \nComme toujours\, veuillez apporter votre matériel de dessin : \n\nCarnet de croquis/bloc de papier\nCrayons\, gomme\, stylos\nAquarelles\, pinceaux\nTabouret pliant\, chevalet de campagne\, etc.\n\nÀ samedi !
URL:https://usk-switzerland.ch/fr/event/usk-geneva-fevrier-2026-sketchwalk-ikea-vernier/
CATEGORIES:USkS Genève
ATTACH;FMTTYPE=image/png:https://usk-switzerland.ch/wp-content/uploads/2026/02/Feb26-uskgeneva.png
END:VEVENT
BEGIN:VEVENT
DTSTART;TZID=Europe/Zurich:20260131T110000
DTEND;TZID=Europe/Zurich:20260131T133000
DTSTAMP:20260420T030026
CREATED:20260129T104942Z
LAST-MODIFIED:20260129T105833Z
UID:8294-1769857200-1769866200@usk-switzerland.ch
SUMMARY:USk Geneva - Janvier 2026 sketchwalk - Quartier Libre
DESCRIPTION:En janvier 2026\, nous nous retrouverons au bâtiment Quartier Libre SIG au Pont de la Machine 1\, le samedi 31 Janvier à 11h. Rendez-vous a l’entrée du bâtiment. L’idée c’est de profiter de l’exposition “Libre comme le Rhône” de Robert Hainard\, l’entrée est libre. \nLe bâtiment et la vue de la rivière se prêtent aussi au croquis. Comme toujours\, veuillez amener votre matériel de dessin: \n\nCarnet/Bloc de papier\nCrayons\, gomme\, stylos\nAquarelle\, pinceaux\nTabouret pliant\, chevalet de campagne\,  etc…\n\nÀ samedi!
URL:https://usk-switzerland.ch/fr/event/usk-geneva-janvier-2026-sketchwalk-quartier-libre/
CATEGORIES:USkS Genève
ATTACH;FMTTYPE=image/jpeg:https://usk-switzerland.ch/wp-content/uploads/2026/01/Monthly-USK-Geneva-1024-x-683-px1.jpg
END:VEVENT
END:VCALENDAR