BEGIN:VCALENDAR
VERSION:2.0
PRODID:-//Urban Sketchers Switzerland - ECPv6.15.13//NONSGML v1.0//EN
CALSCALE:GREGORIAN
METHOD:PUBLISH
X-ORIGINAL-URL:https://usk-switzerland.ch
X-WR-CALDESC:Évènements pour Urban Sketchers Switzerland
REFRESH-INTERVAL;VALUE=DURATION:PT1H
X-Robots-Tag:noindex
X-PUBLISHED-TTL:PT1H
BEGIN:VTIMEZONE
TZID:Europe/Zurich
BEGIN:DAYLIGHT
TZOFFSETFROM:+0100
TZOFFSETTO:+0200
TZNAME:CEST
DTSTART:20250330T010000
END:DAYLIGHT
BEGIN:STANDARD
TZOFFSETFROM:+0200
TZOFFSETTO:+0100
TZNAME:CET
DTSTART:20251026T010000
END:STANDARD
BEGIN:DAYLIGHT
TZOFFSETFROM:+0100
TZOFFSETTO:+0200
TZNAME:CEST
DTSTART:20260329T010000
END:DAYLIGHT
BEGIN:STANDARD
TZOFFSETFROM:+0200
TZOFFSETTO:+0100
TZNAME:CET
DTSTART:20261025T010000
END:STANDARD
BEGIN:DAYLIGHT
TZOFFSETFROM:+0100
TZOFFSETTO:+0200
TZNAME:CEST
DTSTART:20270328T010000
END:DAYLIGHT
BEGIN:STANDARD
TZOFFSETFROM:+0200
TZOFFSETTO:+0100
TZNAME:CET
DTSTART:20271031T010000
END:STANDARD
END:VTIMEZONE
BEGIN:VEVENT
DTSTART;TZID=Europe/Zurich:20260221T140000
DTEND;TZID=Europe/Zurich:20260221T160000
DTSTAMP:20260419T204724
CREATED:20260216T172826Z
LAST-MODIFIED:20260130T101228Z
UID:8254-1771682400-1771689600@usk-switzerland.ch
SUMMARY:Carnaval de Bâle\, exposition
DESCRIPTION:Deux jours avant le Morgestraich\, nous visitons l’exposition permanente consacrée au carnaval de Bâle au Musée des cultures. Les salles historiques dégagent une ambiance de carnaval. Elles regorgent d’objets historiques qui donnent au carnaval de Bâle son caractère si particulier.\nC’est un plaisir de les dessiner\, car cela invite à exagérer\, à caricaturer. Les enfants aussi s’amusent ici. Lien: informations sur l’exposition du carnaval de Bâle  \nParticipation uniquement sur inscription\nL’exposition se trouve dans un bâtiment annexe du musée\, où l’espace est limité. Le nombre de participants et la durée de la visite sont donc limités et il est nécessaire de s’inscrire auprès de Herrat (adresse e-mail : herrat-usk@bluewin.ch).\nNous formerons deux groupes. Chaque groupe\, composé de 10 personnes maximum\, disposera d’une heure pour visiter l’exposition :\nGroupe 1 : 14h00-15h00\nGroupe 2 : 15h00-16h00\nLes 10 premières inscriptions seront dans le premier groupe de 14h00 à 15h00\, les suivantes dans le groupe suivant. Si seulement 10 personnes s’inscrivent\, elles pourront rester pendant les deux heures. \nLieux de rendez-vous\nSamedi 21 février 2026\, Musée des cultures de Bâle\, Münsterplatz 20 \n1er groupe : 13h40 dans le hall d’entrée près de la caisse\n2e groupe : 14h40 dans le hall d’entrée près de la caisse\nLes deux groupes : 16h00 Visite des croquis\, également dans le hall d’entrée près de la caisse \nRemarques supplémentaires\nApportez votre propre tabouret pliant. Les liquides ne sont pas autorisés dans le musée\, donc pas de matériel pour dessiner à l’eau\, Salles d’exposition non accessibles aux personnes à mobilité réduite (pas d’ascenseur)
URL:https://usk-switzerland.ch/fr/event/carnaval-de-bale-exposition/
CATEGORIES:USkS Bâle
ATTACH;FMTTYPE=image/jpeg:https://usk-switzerland.ch/wp-content/uploads/2026/01/Skizze-Ankuendigung_16-9_2-scaled.jpg
END:VEVENT
BEGIN:VEVENT
DTSTART;TZID=Europe/Zurich:20260223T150000
DTEND;TZID=Europe/Zurich:20260223T150000
DTSTAMP:20260419T204724
CREATED:20260214T173552Z
LAST-MODIFIED:20260130T100629Z
UID:8266-1771858800-1771858800@usk-switzerland.ch
SUMMARY:En direct du carnaval de Bâle\, cortège
DESCRIPTION:Si vous souhaitez dessiner au cœur de l’effervescence du carnaval\, rendez-vous au cortège. Les participants au cortège font une petite pause sur la Wettsteinplatz\, où il y a un peu de place. \nRendez-vous : 15h00 Basel\, Wettsteinplatz\, sur l’île près du kiosque. \nAttention : le centre-ville est bondé à cette période et les transports publics ne circulent pas. Lien vers l’itinéraire du cortège : https://fasnacht.ch/service/cortege-route/\nLien vers les informations sur le lundi de carnaval : https://www.baslerfasnacht.info/basler-fasnacht/montag/nachmittag \nJe ne participerai pas moi-même à cette rencontre\, mais je me réjouis de recevoir vos croquis (à envoyer par e-mail à herrat-usk@bluewin.ch). Cordialement Herrat
URL:https://usk-switzerland.ch/fr/event/en-direct-du-carnaval-de-bale-cortege/
CATEGORIES:USkS Bâle
ATTACH;FMTTYPE=image/jpeg:https://usk-switzerland.ch/wp-content/uploads/2026/01/Skizze-Ankuendigung_16-9_2-scaled.jpg
END:VEVENT
BEGIN:VEVENT
DTSTART;TZID=Europe/Zurich:20260224T150000
DTEND;TZID=Europe/Zurich:20260224T150000
DTSTAMP:20260419T204724
CREATED:20260214T173105Z
LAST-MODIFIED:20260130T100421Z
UID:8277-1771945200-1771945200@usk-switzerland.ch
SUMMARY:En direct du mardi gras à Bâle
DESCRIPTION:Au cœur de l’effervescence du carnaval\, les enfants et les petits groupes (Schyyssdräggziigli) dessinent lors du mardi gras\, jour festif et chaotique. Lien vers des informations sur le mardi gras : https://www.baslerfasnacht.info/basler-fasnacht/dienstag/nachmittag \nRendez-vous : 15h00 à l’église Saint-Léonard de Bâle\, à l’entrée de l’église. \nAttention : le centre-ville est bondé à cette période et les tramways ne circulent pas. \nJe ne participerai pas moi-même à cette rencontre\, mais je me réjouis de voir vos croquis (à envoyer par e-mail à herrat-usk@bluewin.ch). Cordialment Herrat
URL:https://usk-switzerland.ch/fr/event/en-direct-du-mardi-gras-a-bale/
CATEGORIES:USkS Bâle
ATTACH;FMTTYPE=image/jpeg:https://usk-switzerland.ch/wp-content/uploads/2026/01/Skizze-Ankuendigung_16-9_2-scaled.jpg
END:VEVENT
END:VCALENDAR