BEGIN:VCALENDAR
VERSION:2.0
PRODID:-//Urban Sketchers Switzerland - ECPv6.15.13//NONSGML v1.0//EN
CALSCALE:GREGORIAN
METHOD:PUBLISH
X-WR-CALNAME:Urban Sketchers Switzerland
X-ORIGINAL-URL:https://usk-switzerland.ch
X-WR-CALDESC:Évènements pour Urban Sketchers Switzerland
REFRESH-INTERVAL;VALUE=DURATION:PT1H
X-Robots-Tag:noindex
X-PUBLISHED-TTL:PT1H
BEGIN:VTIMEZONE
TZID:Europe/Zurich
BEGIN:DAYLIGHT
TZOFFSETFROM:+0100
TZOFFSETTO:+0200
TZNAME:CEST
DTSTART:20250330T010000
END:DAYLIGHT
BEGIN:STANDARD
TZOFFSETFROM:+0200
TZOFFSETTO:+0100
TZNAME:CET
DTSTART:20251026T010000
END:STANDARD
BEGIN:DAYLIGHT
TZOFFSETFROM:+0100
TZOFFSETTO:+0200
TZNAME:CEST
DTSTART:20260329T010000
END:DAYLIGHT
BEGIN:STANDARD
TZOFFSETFROM:+0200
TZOFFSETTO:+0100
TZNAME:CET
DTSTART:20261025T010000
END:STANDARD
BEGIN:DAYLIGHT
TZOFFSETFROM:+0100
TZOFFSETTO:+0200
TZNAME:CEST
DTSTART:20270328T010000
END:DAYLIGHT
BEGIN:STANDARD
TZOFFSETFROM:+0200
TZOFFSETTO:+0100
TZNAME:CET
DTSTART:20271031T010000
END:STANDARD
END:VTIMEZONE
BEGIN:VEVENT
DTSTART;TZID=Europe/Zurich:20260903T000000
DTEND;TZID=Europe/Zurich:20260905T235959
DTSTAMP:20260420T085900
CREATED:20260118T175223Z
LAST-MODIFIED:20260312T114741Z
UID:8135-1788393600-1788652799@usk-switzerland.ch
SUMMARY:8e symposium suisse des Urban Sketchers 2026 à Saint-Gall
DESCRIPTION:La ville de Saint-Gall est célèbre pour sa vieille ville pittoresque avec ses 111 encorbellements richement décorés. Le quartier de l’abbaye\, avec son impressionnante cathédrale baroque et la somptueuse salle rococo de la bibliothèque abbatiale\, est inscrit au patrimoine mondial de l’UNESCO. Ici\, l’histoire est palpable à chaque pas.  Du 3 au 5 septembre 2026\, des urban sketchers venus de près ou de loin se réuniront ici pour découvrir la ville à travers le dessin. L’accent sera mis sur le dessin en commun et les échanges personnels. Tous les dessinateurs et dessinatrices sont les bienvenus\, quels que soient leur niveau\, leur expérience\, leur parcours et leur âge. \nÀ Saint-Gall\, nous empruntons une nouvelle voie. Lors de la rencontre USk de cette année\, nous vous proposons un programme qui met l’accent sur le dessin en commun et les échanges personnels… sans ateliers. Nous mettons l’accent sur 4 SketchWalks avec un total de 18 SketchPoints et découvrirons ensemble les ruelles et les recoins de la ville historique de Saint-Gall. Nous proposons également un programme-cadre passionnant qui vous permettra de discuter avec vos anciens et nouveaux amis et vous laissera un souvenir inspirant à emporter chez vous. Vous pouvez également vous réjouir de retrouver de nombreuses activités familières\, l’équipe d’organisation travaille déjà avec joie et enthousiasme à l’élaboration du programme. Notre site web www.symposium.usk-switzerland.ch est désormais en ligne et vous fournira progressivement de plus amples informations..
URL:https://usk-switzerland.ch/fr/event/8e-symposium-suisse-des-urban-sketchers-2026-a-saint-gall/
CATEGORIES:Symposium,USkS Saint-Gall
ATTACH;FMTTYPE=image/jpeg:https://usk-switzerland.ch/wp-content/uploads/2026/01/260118_USkSG2026.jpg
END:VEVENT
END:VCALENDAR