BEGIN:VCALENDAR
VERSION:2.0
PRODID:-//Urban Sketchers Switzerland - ECPv6.15.13//NONSGML v1.0//EN
CALSCALE:GREGORIAN
METHOD:PUBLISH
X-WR-CALNAME:Urban Sketchers Switzerland
X-ORIGINAL-URL:https://usk-switzerland.ch
X-WR-CALDESC:Évènements pour Urban Sketchers Switzerland
REFRESH-INTERVAL;VALUE=DURATION:PT1H
X-Robots-Tag:noindex
X-PUBLISHED-TTL:PT1H
BEGIN:VTIMEZONE
TZID:Europe/Zurich
BEGIN:DAYLIGHT
TZOFFSETFROM:+0100
TZOFFSETTO:+0200
TZNAME:CEST
DTSTART:20250330T010000
END:DAYLIGHT
BEGIN:STANDARD
TZOFFSETFROM:+0200
TZOFFSETTO:+0100
TZNAME:CET
DTSTART:20251026T010000
END:STANDARD
BEGIN:DAYLIGHT
TZOFFSETFROM:+0100
TZOFFSETTO:+0200
TZNAME:CEST
DTSTART:20260329T010000
END:DAYLIGHT
BEGIN:STANDARD
TZOFFSETFROM:+0200
TZOFFSETTO:+0100
TZNAME:CET
DTSTART:20261025T010000
END:STANDARD
BEGIN:DAYLIGHT
TZOFFSETFROM:+0100
TZOFFSETTO:+0200
TZNAME:CEST
DTSTART:20270328T010000
END:DAYLIGHT
BEGIN:STANDARD
TZOFFSETFROM:+0200
TZOFFSETTO:+0100
TZNAME:CET
DTSTART:20271031T010000
END:STANDARD
END:VTIMEZONE
BEGIN:VEVENT
DTSTART;TZID=Europe/Zurich:20260418T140000
DTEND;TZID=Europe/Zurich:20260418T160000
DTSTAMP:20260419T190920
CREATED:20260323T135018Z
LAST-MODIFIED:20260406T145930Z
UID:8935-1776520800-1776528000@usk-switzerland.ch
SUMMARY:USk Dreiländereck-Pays des Trois Frontières / Monatstreffen
DESCRIPTION:Monatstreffen am Samstag\, 18. April 2026 um 14 Uhr:\n\nSaint-Louis\, France\nTreffpunkt um 14 Uhr vor dem Café de la Poste \n10 Rue de Huningue\, 68300 Saint-Louis\, Frankreich \n\nAbschluss um 16 Uhr im Café de la Poste \nEin Tisch für 10 Personen ist reserviert.\n\nHinweis: Am Samstagmorgen findet der Markt auf dem Place de l’Europe bis 13 Uhr statt.\n \n\n\n\n\n\nProgramm:
URL:https://usk-switzerland.ch/fr/event/usk-dreilaendereck-pays-des-trois-frontieres-monatstreffen/
CATEGORIES:USkS Dreiländereck
ATTACH;FMTTYPE=image/jpeg:https://usk-switzerland.ch/wp-content/uploads/2026/02/IMG_11352-scaled.jpeg
END:VEVENT
END:VCALENDAR