BEGIN:VCALENDAR
VERSION:2.0
PRODID:-//Urban Sketchers Switzerland - ECPv6.15.13//NONSGML v1.0//EN
CALSCALE:GREGORIAN
METHOD:PUBLISH
X-WR-CALNAME:Urban Sketchers Switzerland
X-ORIGINAL-URL:https://usk-switzerland.ch
X-WR-CALDESC:Évènements pour Urban Sketchers Switzerland
REFRESH-INTERVAL;VALUE=DURATION:PT1H
X-Robots-Tag:noindex
X-PUBLISHED-TTL:PT1H
BEGIN:VTIMEZONE
TZID:Europe/Zurich
BEGIN:DAYLIGHT
TZOFFSETFROM:+0100
TZOFFSETTO:+0200
TZNAME:CEST
DTSTART:20250330T010000
END:DAYLIGHT
BEGIN:STANDARD
TZOFFSETFROM:+0200
TZOFFSETTO:+0100
TZNAME:CET
DTSTART:20251026T010000
END:STANDARD
BEGIN:DAYLIGHT
TZOFFSETFROM:+0100
TZOFFSETTO:+0200
TZNAME:CEST
DTSTART:20260329T010000
END:DAYLIGHT
BEGIN:STANDARD
TZOFFSETFROM:+0200
TZOFFSETTO:+0100
TZNAME:CET
DTSTART:20261025T010000
END:STANDARD
BEGIN:DAYLIGHT
TZOFFSETFROM:+0100
TZOFFSETTO:+0200
TZNAME:CEST
DTSTART:20270328T010000
END:DAYLIGHT
BEGIN:STANDARD
TZOFFSETFROM:+0200
TZOFFSETTO:+0100
TZNAME:CET
DTSTART:20271031T010000
END:STANDARD
END:VTIMEZONE
BEGIN:VEVENT
DTSTART;TZID=Europe/Zurich:20260328T110000
DTEND;TZID=Europe/Zurich:20260328T140000
DTSTAMP:20260419T220758
CREATED:20260328T094700Z
LAST-MODIFIED:20260328T094903Z
UID:8968-1774695600-1774706400@usk-switzerland.ch
SUMMARY:USk Geneva - Mars 2026 sketchwalk - Ruby Claire Hotel & Bar
DESCRIPTION:Nous nous retrouverons le samedi 28 mars à 11h à l’hôtel Ruby Claire. Entrée par le passage Malbuisson\, Rue du Rhône 46\, 1204 Genève. \nLe bar du hall (intérieur) et le rooftop (extérieur) sont disponibles pour le croquis ! ✍️ \nComme toujours\, veuillez amener votre matériel de dessin: \n• Bloc de papier/Journal\,\n• Crayons\, gomme\, stylors\,\n• Aquarelle\, pinceaux\,\n• Tabouret pliant\, chevalet de campagne\,\n• etc…
URL:https://usk-switzerland.ch/fr/event/usk-geneva-mars-2026-sketchwalk-ruby-claire-hotel-bar/
CATEGORIES:USkS Genève
END:VEVENT
BEGIN:VEVENT
DTSTART;TZID=Europe/Zurich:20260328T140000
DTEND;TZID=Europe/Zurich:20260328T160000
DTSTAMP:20260419T220758
CREATED:20260317T132849Z
LAST-MODIFIED:20260317T133733Z
UID:8849-1774706400-1774713600@usk-switzerland.ch
SUMMARY:Sketchcrawl à l'intérieur et devant le kHaus\, Bâle
DESCRIPTION:Au kHaus\, l’ancien bâtiment principal de la caserne de Bâle situé sur les rives du Rhin dans le quartier du Petit-Bâle (lien : kHaus)\, nous nous installons confortablement dans la «Plaza»\, un passage\, un foyer et une cage d’escalier aménagés en salon public (lien : Plaza). Nous pouvons y dessiner les escaliers sculpturaux\, l’architecture et l’aménagement (lien : Architecture). Nous pouvons nous dessiner les uns les autres ou\, pour nous échauffer\, poser brièvement à tour de rôle. À l’extérieur\, du côté du Rhin\, avec son bistrot convivial\, les rives du Rhin constituent un motif très apprécié ; on y joue à la pétanque et le ferry de Klingental fait escale à son embarcadère. Du côté de la cour de la caserne\, le site de la caserne s’ouvre sur un espace où\, par temps sec\, les gens se retrouvent toujours pour s’asseoir\, discuter\, faire du skateboard\, etc. \nLieu de rendez-vous : à 14 h devant l’entrée du kHaus\, du côté du Rhin (Unterer Rheinweg\, lien vers la carte). C’est là que nous nous retrouverons également à 16 h pour nous montrer nos croquis.
URL:https://usk-switzerland.ch/fr/event/sketchcrawl-a-linterieur-et-devant-le-khaus/
CATEGORIES:USkS Bâle
ATTACH;FMTTYPE=image/jpeg:https://usk-switzerland.ch/wp-content/uploads/2026/03/20260316_Beitragsbild_Symbolbild.jpg
END:VEVENT
BEGIN:VEVENT
DTSTART;TZID=Europe/Zurich:20260328T140000
DTEND;TZID=Europe/Zurich:20260328T160000
DTSTAMP:20260419T220758
CREATED:20260317T180417Z
LAST-MODIFIED:20260317T180749Z
UID:8863-1774706400-1774713600@usk-switzerland.ch
SUMMARY:Invitation JosyFolie du 28.03.2026 : Sketchwalk devant l'école de Cormanon\, Villars-sur-Glâne
DESCRIPTION:Hello Toi\n\nLe printemps est de retour ! Je te propose de venir croquer\, avec tes pinceaux et tes crayons\, une vue panoramique assez exceptionnelle sur les Préalpes fribourgeoises\, avec le Moléson encore enneigé dans toute sa splendeur.\n\nRendez-vous le samedi 28.03. à 14h00\, devant le Centre Commercial de Cormanon\, à 1752 Villars-sur-Glâne.\n\nPour y venir en transports publics\, prendre le bus TPF numéro 5 juste devant  la gare de Fribourg et sortir à l’arrêt Cormanon\n\n\n\n\nNous suivrons le manifeste des Urban Sketchers https://urbansketchers.org/\n\n\n• Pour tout style\, tout niveau et tout âge. \n• Avec zéro inscription\, zéro franc et zéro jugement \n\n\n\nNous serons à deux pas du Centre CREAHM et essayerons\, à travers les vitres\, de voir quelques splendides créations de ces artistes !\n\nAvec coeur \n\n\n\n\n\n\n\n\n\n\n\n\n\n\n\n\n\n\nJosy\n\nPS. Plan B : Dans le Centre Commercial
URL:https://usk-switzerland.ch/fr/event/invitation-josyfolie-du-28-03-2026-sketchwalk-devant-lecole-de-cormanon-villars-sur-glane/
CATEGORIES:USkS Fribourg
ATTACH;FMTTYPE=image/jpeg:https://usk-switzerland.ch/wp-content/uploads/2026/03/Le-Moleson--scaled.jpg
END:VEVENT
END:VCALENDAR