BEGIN:VCALENDAR
VERSION:2.0
PRODID:-//Urban Sketchers Switzerland - ECPv6.15.13//NONSGML v1.0//EN
CALSCALE:GREGORIAN
METHOD:PUBLISH
X-ORIGINAL-URL:https://usk-switzerland.ch
X-WR-CALDESC:Évènements pour Urban Sketchers Switzerland
REFRESH-INTERVAL;VALUE=DURATION:PT1H
X-Robots-Tag:noindex
X-PUBLISHED-TTL:PT1H
BEGIN:VTIMEZONE
TZID:Europe/Zurich
BEGIN:DAYLIGHT
TZOFFSETFROM:+0100
TZOFFSETTO:+0200
TZNAME:CEST
DTSTART:20250330T010000
END:DAYLIGHT
BEGIN:STANDARD
TZOFFSETFROM:+0200
TZOFFSETTO:+0100
TZNAME:CET
DTSTART:20251026T010000
END:STANDARD
BEGIN:DAYLIGHT
TZOFFSETFROM:+0100
TZOFFSETTO:+0200
TZNAME:CEST
DTSTART:20260329T010000
END:DAYLIGHT
BEGIN:STANDARD
TZOFFSETFROM:+0200
TZOFFSETTO:+0100
TZNAME:CET
DTSTART:20261025T010000
END:STANDARD
BEGIN:DAYLIGHT
TZOFFSETFROM:+0100
TZOFFSETTO:+0200
TZNAME:CEST
DTSTART:20270328T010000
END:DAYLIGHT
BEGIN:STANDARD
TZOFFSETFROM:+0200
TZOFFSETTO:+0100
TZNAME:CET
DTSTART:20271031T010000
END:STANDARD
END:VTIMEZONE
BEGIN:VEVENT
DTSTART;TZID=Europe/Zurich:20260308T140000
DTEND;TZID=Europe/Zurich:20260308T160000
DTSTAMP:20260419T203737
CREATED:20260304T181759Z
LAST-MODIFIED:20260304T181759Z
UID:8702-1772978400-1772985600@usk-switzerland.ch
SUMMARY:Urban Sketchers Treffen in Soloturn
DESCRIPTION:Diesen Sonntag zeichnen wir im Kunstmuseum Solothurn.\nTreffpunkt ist um 14 Uhr vor bzw. im Museum (der Eingang ist Altstadt-seitig).\n\nOrganisatorisches:\nDer Eintritt ist frei und es stehen Hocker zur Verfügung.\nDie Rucksäcke bitte in den Schliessfächern verstauen.\n\nZeichnungsort:\nDas Kunstmuseum zeigt zur Zeit die Ausstellung „Mehr Licht. Video in der Kunst“\, bei welcher die Videokunst verschiedener Künstler gezeigt werden.\nAber auch die Dauerausstellungen der Gegenwartskunst und die Altmeistersammlung sind eindrücklich.\nGenug Motive bietet auch das Gebäude des Museums selbst: Die grossen Ausstellungsräume\, das imposante Treppenhaus\, die Eingangshalle oder der schöne\, umliegende Park.\nIn Laufnähe befindet sich unter anderem die Solothurner Altstadt oder die Aare.
URL:https://usk-switzerland.ch/fr/event/urban-sketchers-treffen-in-soloturn/
CATEGORIES:USkS Biel/Bienne
ATTACH;FMTTYPE=image/jpeg:https://usk-switzerland.ch/wp-content/uploads/2026/03/IMG_6674.jpeg
END:VEVENT
END:VCALENDAR