BEGIN:VCALENDAR
VERSION:2.0
PRODID:-//Urban Sketchers Switzerland - ECPv6.15.13//NONSGML v1.0//EN
CALSCALE:GREGORIAN
METHOD:PUBLISH
X-WR-CALNAME:Urban Sketchers Switzerland
X-ORIGINAL-URL:https://usk-switzerland.ch
X-WR-CALDESC:Veranstaltungen im Urban Sketchers Switzerland
REFRESH-INTERVAL;VALUE=DURATION:PT1H
X-Robots-Tag:noindex
X-PUBLISHED-TTL:PT1H
BEGIN:VTIMEZONE
TZID:Europe/Zurich
BEGIN:DAYLIGHT
TZOFFSETFROM:+0100
TZOFFSETTO:+0200
TZNAME:CEST
DTSTART:20250330T010000
END:DAYLIGHT
BEGIN:STANDARD
TZOFFSETFROM:+0200
TZOFFSETTO:+0100
TZNAME:CET
DTSTART:20251026T010000
END:STANDARD
BEGIN:DAYLIGHT
TZOFFSETFROM:+0100
TZOFFSETTO:+0200
TZNAME:CEST
DTSTART:20260329T010000
END:DAYLIGHT
BEGIN:STANDARD
TZOFFSETFROM:+0200
TZOFFSETTO:+0100
TZNAME:CET
DTSTART:20261025T010000
END:STANDARD
BEGIN:DAYLIGHT
TZOFFSETFROM:+0100
TZOFFSETTO:+0200
TZNAME:CEST
DTSTART:20270328T010000
END:DAYLIGHT
BEGIN:STANDARD
TZOFFSETFROM:+0200
TZOFFSETTO:+0100
TZNAME:CET
DTSTART:20271031T010000
END:STANDARD
END:VTIMEZONE
BEGIN:VEVENT
DTSTART;TZID=Europe/Zurich:20260306T143000
DTEND;TZID=Europe/Zurich:20260306T170000
DTSTAMP:20260419T173326
CREATED:20260304T191322Z
LAST-MODIFIED:20260304T191322Z
UID:8705-1772807400-1772816400@usk-switzerland.ch
SUMMARY:Skizzieren in Oberwinterthur
DESCRIPTION:Am Freitag treffen wir uns um 14.30 Uhr beim Restaurant Augenblick an der Hohlandstrasse 1 in Oberwinterthur\, kaffee-augenblick.ch
URL:https://usk-switzerland.ch/event/skizzieren-in-oberwinterthur/
CATEGORIES:USkS Winterthur
ATTACH;FMTTYPE=image/jpeg:https://usk-switzerland.ch/wp-content/uploads/2026/03/2ffc7447-8db0-41a0-9931-31f2da15d8ee.jpeg
END:VEVENT
BEGIN:VEVENT
DTSTART;TZID=Europe/Zurich:20260308T140000
DTEND;TZID=Europe/Zurich:20260308T160000
DTSTAMP:20260419T173326
CREATED:20260304T181759Z
LAST-MODIFIED:20260304T181759Z
UID:8699-1772978400-1772985600@usk-switzerland.ch
SUMMARY:Urban Sketchers Treffen in Soloturn
DESCRIPTION:Diesen Sonntag zeichnen wir im Kunstmuseum Solothurn.\nTreffpunkt ist um 14 Uhr vor bzw. im Museum (der Eingang ist Altstadt-seitig).\n\nOrganisatorisches:\nDer Eintritt ist frei und es stehen Hocker zur Verfügung.\nDie Rucksäcke bitte in den Schliessfächern verstauen.\n\nZeichnungsort:\nDas Kunstmuseum zeigt zur Zeit die Ausstellung „Mehr Licht. Video in der Kunst“\, bei welcher die Videokunst verschiedener Künstler gezeigt werden.\nAber auch die Dauerausstellungen der Gegenwartskunst und die Altmeistersammlung sind eindrücklich.\nGenug Motive bietet auch das Gebäude des Museums selbst: Die grossen Ausstellungsräume\, das imposante Treppenhaus\, die Eingangshalle oder der schöne\, umliegende Park.\nIn Laufnähe befindet sich unter anderem die Solothurner Altstadt oder die Aare.
URL:https://usk-switzerland.ch/event/urban-sketchers-treffen-in-soloturn/
CATEGORIES:USkS Biel/Bienne
ATTACH;FMTTYPE=image/jpeg:https://usk-switzerland.ch/wp-content/uploads/2026/03/IMG_6674.jpeg
END:VEVENT
BEGIN:VEVENT
DTSTART;TZID=Europe/Zurich:20260314T100000
DTEND;TZID=Europe/Zurich:20260314T123000
DTSTAMP:20260419T173326
CREATED:20260304T002503Z
LAST-MODIFIED:20260406T155609Z
UID:8692-1773482400-1773491400@usk-switzerland.ch
SUMMARY:Stadtscheune Mellingen
DESCRIPTION:Sketchcrawl in Mellingen\nSamstag\, 14. März und 17. Mai 2026\, 10 – 12.30 Uhr\, Treffpunkt –  Stadtscheune\, Scheunengasse 7\, Mellingen \n\n\n📍 Sketchcrawl in Mellingen. Die Altstadt von Mellingen bietet so viele schöne Ecken\, die zum Zeichnen einladen!! Deshalb machen wir hier gleich zwei Sketchcrawls – einmal am 14. März und einmal am 17. Mai. \n👉 Anlass ist der internationale Museumstag. Was ein schöner Gedanke\, dass wir hier ein Teil dieses Anlasses sein werden! Ich wurde vom  Kulturverantwortlichen der Stadt Mellingen angefragt\, ob wir gemeinsam etwas machen können. Ich habe zugesagt. Die Bilder\, die hier entstehen\, dürfen wir direkt ausstellen: Eröffnung ist am 17. Mai\, direkt im Anschluss an unseren Sketchcrawl in der Stadtscheune\, um 14 Uhr . Macht gerne mit! \nWenn Ihr zwischendurch einmal alleine nach Mellingen fahren und das Städtchen sketchen möchtet\, und wenn ihr dann ebenfalls an der Ausstellung mitmachen möchtet\, schickt eure Bilder (auf der Rückseite mit eurer mit eurer Adresse angeschrieben)  direkt an: Yvonne Fischer\, Leiterin Stadtscheune\, Scheunengasse 7\, 5507 Mellingen
URL:https://usk-switzerland.ch/event/stadtscheune-mellingen/
CATEGORIES:USkS Aargau
ATTACH;FMTTYPE=image/png:https://usk-switzerland.ch/wp-content/uploads/2026/03/Kopie-von-Sketchcrawl-Praesentation-43.png
END:VEVENT
BEGIN:VEVENT
DTSTART;TZID=Europe/Zurich:20260319T100000
DTEND;TZID=Europe/Zurich:20260319T120000
DTSTAMP:20260419T173326
CREATED:20260318T095434Z
LAST-MODIFIED:20260318T095434Z
UID:8667-1773914400-1773921600@usk-switzerland.ch
SUMMARY:USk Dreiländereck Donnerstagsgruppe
DESCRIPTION:
URL:https://usk-switzerland.ch/event/usk-dreilaendereck-donnerstagsgruppe/
CATEGORIES:USkS Dreiländereck
ATTACH;FMTTYPE=image/png:https://usk-switzerland.ch/wp-content/uploads/2026/03/PastedGraphic-1-1.png
END:VEVENT
BEGIN:VEVENT
DTSTART;TZID=Europe/Zurich:20260320T143000
DTEND;TZID=Europe/Zurich:20260320T170000
DTSTAMP:20260419T173326
CREATED:20260318T061950Z
LAST-MODIFIED:20260318T061950Z
UID:8884-1774017000-1774026000@usk-switzerland.ch
SUMMARY:Skizzieren im Stadtgarten Winterthur
DESCRIPTION:wir treffen uns am Freitag um 14.30 auf der Treppe vor dem Stadthaus Winterthur. Im angrenzenden Stadtgarten blühen die Frühlingsblumen…🌷Susanne
URL:https://usk-switzerland.ch/event/skizzieren-im-stadtgarten-winterthur/
CATEGORIES:USkS Winterthur
ATTACH;FMTTYPE=image/png:https://usk-switzerland.ch/wp-content/uploads/2026/03/IMG_7398-scaled.png
END:VEVENT
BEGIN:VEVENT
DTSTART;TZID=Europe/Zurich:20260321T140000
DTEND;TZID=Europe/Zurich:20260321T160000
DTSTAMP:20260419T173326
CREATED:20260302T120556Z
LAST-MODIFIED:20260318T094017Z
UID:8688-1774101600-1774108800@usk-switzerland.ch
SUMMARY:USk Dreiländereck Monatstreffen
DESCRIPTION:Monatstreffen am Samstag\, 21. März 2026 um 14 Uhr:  \n\n\nDreiländermuseum Lörrach  \nBasler Strasse 143 \nS-Bahn Haltestelle Lörrach Museum / Burghof\n\n\n\nhttps://www.dreilaendermuseum.eu/de/vorbeikommen/\n\n\n\n\nManche werden sich noch an den letzten Besuch des Dreiländermuseums im Januar 2025 erinnern\, bei dem vielfältige Sketches geschaffen wurden. Auch diesmal gibt es wieder Neues zu entdecken und im Skizzenbuch festzuhalten: Sei es ein besonders skuriles Objekt in der Dauerausstellung\, sei es das Gebäude an seinem Standort in unmittelbarer Nähe der Stadtkirche selber oder Eindrücke von der Sonderausstellung. \n\n\n\n\n\nAktuelle Ausstellung\nInspiration 12 – Inklusive Kunstausstellung\n\n\n\nZum zwölften Mal findet das inklusive Kunstprojekt „Inspiration“ im Museum in Lörrach statt. Dieses Jahr widmet es sich dem Thema Tiere. Teilnehmende aus dem ganzen Dreiländereck haben Tiergemälde aus der Sammlung des Museums betrachtet und sich davon zu einem eigenen Werk inspirieren lassen.\nWer die Ausstellung betritt\, befindet sich mitten in einem fantasievollen und bunten Tierreich: Ein Fabelwesen entsteht aus einer Linie\, ein anderes aus einem Feuerwerk an Farben. Stolze Löwen\, schüchterne Eulen\, Unterwasserwelten\, geliebte Pferde\, ausdrucksstark\, spielerisch\, ernst\, vertraut oder exotisch\, realistisch oder rätselhaft treten zueinander in Beziehung und fangen wie von selbst an Geschichten zu erzählen. Die Kreativität wirkt ansteckend!\n \n \n\nDauerausstellung\nDeutschland – Frankreich – Schweiz: Drei Länder und doch eine Region.\nIn deutscher und französischer Sprache widmet sich die erlebnisorientierte Dreiländerausstellung der Geschichte und Gegenwart der Dreiländerregion. \nEtwa 2.000 Exponate aus Südbaden\, dem Oberelsass und der Nordwestschweiz illustrieren auf rund 1.000 Quadratmetern historisch relevante sowie diesen Landstrich prägende Ereignisse.\n \n \n \n\n\nIm Anschluss an unser Treffen ist im Deli Drei König am Marktplatz Lörrach ein Tisch reserviert. \nIn Vorfreude auf viele Teilnehmende grüsst euch herzlich \nSusanne K \n  
URL:https://usk-switzerland.ch/event/usk-dreilaendereck-monatstreffen-2/
CATEGORIES:USkS Dreiländereck
ATTACH;FMTTYPE=image/png:https://usk-switzerland.ch/wp-content/uploads/2026/03/Screenshot-2026-03-02-at-12-59-57-Das-Museum-–-Dreilaendermuseum-Loerrach.png
END:VEVENT
BEGIN:VEVENT
DTSTART;TZID=Europe/Zurich:20260322T140000
DTEND;TZID=Europe/Zurich:20260322T160000
DTSTAMP:20260419T173326
CREATED:20260319T120258Z
LAST-MODIFIED:20260319T120258Z
UID:8904-1774188000-1774195200@usk-switzerland.ch
SUMMARY:Urban Sketchers Treffen in Biel/Bienne
DESCRIPTION:Diesen Sonntag zeichnen wir in der GRIP Kletterhalle in Biel/Bienne. Treffpunkt ist um 14 Uhr vor bzw. im Bistro Grip am Rennweg 62. Wer im Bistro zeichnet\, bitte ich etwas zu konsumieren. \nZeichnungsort: Die Kletterhalle Biel verfügt über einen Innenraum und Aussenbereich mit hohen Kletterwänden sowie einem Raum zum Boldern und einem Fitnessbereich. Gleich daneben befindet sich das Bistro. Das alte Industrie-Gebäude\, in welchem sich das Grip befindet\, ist über und über mit Graffitis dekoriert und liegt gleich an den Abstellgeleisen der SBB. Im Gebäude befindet sich zudem unter anderem das Jugendkulturhaus X-Project\, eine Paintball-Anlage sowie ein Skate-Park.\nIn Laufnähe befindet sich die Schüssinsel mit dem Omega-Wurm sowie das Mett-Quartier.
URL:https://usk-switzerland.ch/event/urban-sketchers-treffen-in-biel-bienne-2/
CATEGORIES:USkS Biel/Bienne
ATTACH;FMTTYPE=image/jpeg:https://usk-switzerland.ch/wp-content/uploads/2026/03/IMG_2458.jpeg
END:VEVENT
BEGIN:VEVENT
DTSTART;TZID=Europe/Zurich:20260326T100000
DTEND;TZID=Europe/Zurich:20260326T120000
DTSTAMP:20260419T173326
CREATED:20260323T135642Z
LAST-MODIFIED:20260323T135642Z
UID:8938-1774519200-1774526400@usk-switzerland.ch
SUMMARY:USk Dreiländereck Donnerstagsgruppe
DESCRIPTION:Einladung Donnerstagsgruppe 26. März 2026 \nEs wird wieder kalt und garstig und wir sind drinnen wohl wieder besser aufgehoben.\nAlso setzen wir unsere Besuche in Bildungsinstitutionen fort.\nWir treffen uns um 10:00 Uhr im Atrium der FHNW Muttenz\, Hofackerstrasse 30\,\nMuttenz.\n  \nWegbeschreibungen\nMit dem öffentlichen Verkehr: Bus 46 (aus Richtung Kleinhünigen)und 47 (aus\nRichtung Dreispitz/St. Jakob) bis FHNW\, Hofackerstrasse\nMit dem Velo: Das ist mit etwas unklar: der Birs entlang und über eine Brücke und\ndann Schänzli\, Birsfelderstrasse\, am Pantheon vorbei und dann Hofackerstrasse bis FHNW.\nMit dem Auto: A3 Ausfahrt Muttenz\, dann erste links am Pantheon vorbei.\nParkplätze wohl eher rar. \nWas kann man zeichnen? \nSpannende Architektur der FHNW mit Treppen wie bei Harry Potter. Ausblicke im Atrium von unten nach oben oder umgekehrt. Da gibt es wohl auch Menschen zu zeichnen\, die sich durch die Räume bewegen. Oder auch Ausblicke von ganz oben in der Lounge nach draussen.  Für Kälteresistente eventuell auch von der Dachterrasse Ausblicke in die Landschaft. Lassen wir uns überraschen. Eventuell auch Ausblicke vom Campuspark aus. \n \nDie FHNW ist ein grosser Bildungskomplex\, in dem Architektur\, Bau und Geomatik\, Life Sciences\, Pädagogik\, Soziale Arbeit und Mechatronik studiert werden können. Rund 4500 Menschen studieren\, forschen und arbeiten am FHNW Campus Muttenz. \nHier einige spannende Aussagen zur Architektur und weitere Bilder: \nhttps://ifneuhaus.com/de/atrium-fhnw-campus-muttenz.htm \nund zur Hochschule: \nhttps://www.fhnw.ch/de/die-fhnw/standorte/muttenz \nBis bald \nAnnette
URL:https://usk-switzerland.ch/event/usk-dreilaendereck-donnerstagsgruppe-3/
CATEGORIES:USkS Dreiländereck
ATTACH;FMTTYPE=image/png:https://usk-switzerland.ch/wp-content/uploads/2026/03/PastedGraphic-2-1.png
END:VEVENT
BEGIN:VEVENT
DTSTART;TZID=Europe/Zurich:20260327T143000
DTEND;TZID=Europe/Zurich:20260327T170000
DTSTAMP:20260419T173326
CREATED:20260326T153057Z
LAST-MODIFIED:20260326T153057Z
UID:8955-1774621800-1774630800@usk-switzerland.ch
SUMMARY:Skizzieren im Restaurant Coopcity in Winterthur
DESCRIPTION:Am Freitag 27. März 2026 zeichnen wir von 14.30 – 16.00 Uhr im Restaurant vom Coopcity beim Bahnhof Winterthur
URL:https://usk-switzerland.ch/event/skizzieren-im-restaurant-coopcity-in-winterthur/
CATEGORIES:USkS Winterthur
ATTACH;FMTTYPE=image/jpeg:https://usk-switzerland.ch/wp-content/uploads/2026/03/IMG_1493-scaled.jpeg
END:VEVENT
BEGIN:VEVENT
DTSTART;TZID=Europe/Zurich:20260328T110000
DTEND;TZID=Europe/Zurich:20260328T140000
DTSTAMP:20260419T173326
CREATED:20260328T094700Z
LAST-MODIFIED:20260406T155046Z
UID:9035-1774695600-1774706400@usk-switzerland.ch
SUMMARY:USk Geneva - March 2026 sketchwalk - Ruby Claire Hotel & Bar
DESCRIPTION:This month we’ll meet at the Ruby Claire Hotel! On Saturday 28th March at 11:00 CET 🏨\nEntry can be found by the passage Malbuisson\, Rue du Rhône 46\, 1204 Genève \nThe lobby bar (interior) and the rooftop bars (exterior) are available for sketching! ✍️ \nAs always\, please bring your sketching material:\n• Sketchbook/Paper pad\,\n• Pencils\, rubber\, pens\,\n• Watercolors\, brushes\,\n• Folding stool\, field easel\n• etc…
URL:https://usk-switzerland.ch/event/usk-geneva-march-2026-sketchwalk-ruby-claire-hotel-bar/
CATEGORIES:USkS Genf
END:VEVENT
BEGIN:VEVENT
DTSTART;TZID=Europe/Zurich:20260328T140000
DTEND;TZID=Europe/Zurich:20260328T160000
DTSTAMP:20260419T173326
CREATED:20260317T132849Z
LAST-MODIFIED:20260317T133706Z
UID:8845-1774706400-1774713600@usk-switzerland.ch
SUMMARY:Sketchcrawl im und vor dem kHaus\, Basel
DESCRIPTION:Im kHaus\, dem ehemaligen Hauptbau der Basler Kaserne am Kleinbasler Rheinufer (Link: kHaus)\, machen wir es uns in der «Plaza» gemütlich\, einem als öffentliches Wohnzimmer eingerichteten Durchgang\, Foyer\, Treppenhaus (Link: Plaza). Zeichnen können wir hier die skulpturalen Treppenaufgänge\, die Architektur und die Einrichtung (Link: Architektur). Wir können uns gegenseitig zeichnen oder einander auch zum Aufwärmen kurz abwechselnd Modell stehen. Draussen auf der Rheinseite mit gemütlichem Bistro ist das Rheinufer ein beliebtes Motiv\, es wird Boule gespielt und die Klingentalfähre hält an ihrer Anlegestelle. Auf der Seite zum Kasernenhof  hin öffnet sich das Kasernenareal\, wo sich bei trockenem Wetter immer Leute treffen\, sitzen\, plaudern\, Skateboard fahren\, oder so. \nTreffpunkt: um 14.00 Uhr vor dem Eingang zum kHaus\, auf der Seite zum Rhein (Unterer Rheinweg\, Link Karte). Dort treffen wir uns auch um 16.00 Uhr\, um einander die Skizzen zu zeigen.
URL:https://usk-switzerland.ch/event/sketchcrawl-im-und-vor-dem-khaus/
CATEGORIES:USkS Basel
ATTACH;FMTTYPE=image/jpeg:https://usk-switzerland.ch/wp-content/uploads/2026/03/20260316_Beitragsbild_Symbolbild.jpg
END:VEVENT
BEGIN:VEVENT
DTSTART;TZID=Europe/Zurich:20260329T100000
DTEND;TZID=Europe/Zurich:20260329T120000
DTSTAMP:20260419T173326
CREATED:20260313T141023Z
LAST-MODIFIED:20260313T141023Z
UID:8808-1774778400-1774785600@usk-switzerland.ch
SUMMARY:Zeichnen im «Freiruum» in Zug
DESCRIPTION:Im März treffen wir uns mit der neuen USk-Gruppe aus Zug. Wir zeichnen im «Freiruum»\, einer alten Farbrikhalle in der Nähe vom Bahnhof. Hier ist ein abwechslungsreiches Angebot aus Gastronomie\, Kultur und Sport entstanden. Das heisst: es gibt viele spannende Sujets und für das leibliche Wohl ist ebenfalls gesorgt. \nWann: Sonntag 29. März 2026\nZeit: von 10:00 bis 12:00\nWo: Freiruum\, Aabachstrasse 16\, Zug\nTreffpunkt: beim Eingang \nDas Treffen ist für alle\, die gerne zeichnen. Man muss sich nicht anmelden und es kostet auch nichts. Einfach eigenes Zeichen-Material mitbringen und los geht’s.
URL:https://usk-switzerland.ch/event/zeichnen-im-freiruum-in-zug/
CATEGORIES:USkS Luzern,USkS Zug
ATTACH;FMTTYPE=image/jpeg:https://usk-switzerland.ch/wp-content/uploads/2026/03/blog-lu_freiruum.jpg
END:VEVENT
END:VCALENDAR