BEGIN:VCALENDAR
VERSION:2.0
PRODID:-//Urban Sketchers Switzerland - ECPv6.15.13//NONSGML v1.0//EN
CALSCALE:GREGORIAN
METHOD:PUBLISH
X-ORIGINAL-URL:https://usk-switzerland.ch
X-WR-CALDESC:Veranstaltungen im Urban Sketchers Switzerland
REFRESH-INTERVAL;VALUE=DURATION:PT1H
X-Robots-Tag:noindex
X-PUBLISHED-TTL:PT1H
BEGIN:VTIMEZONE
TZID:Europe/Zurich
BEGIN:DAYLIGHT
TZOFFSETFROM:+0100
TZOFFSETTO:+0200
TZNAME:CEST
DTSTART:20250330T010000
END:DAYLIGHT
BEGIN:STANDARD
TZOFFSETFROM:+0200
TZOFFSETTO:+0100
TZNAME:CET
DTSTART:20251026T010000
END:STANDARD
BEGIN:DAYLIGHT
TZOFFSETFROM:+0100
TZOFFSETTO:+0200
TZNAME:CEST
DTSTART:20260329T010000
END:DAYLIGHT
BEGIN:STANDARD
TZOFFSETFROM:+0200
TZOFFSETTO:+0100
TZNAME:CET
DTSTART:20261025T010000
END:STANDARD
BEGIN:DAYLIGHT
TZOFFSETFROM:+0100
TZOFFSETTO:+0200
TZNAME:CEST
DTSTART:20270328T010000
END:DAYLIGHT
BEGIN:STANDARD
TZOFFSETFROM:+0200
TZOFFSETTO:+0100
TZNAME:CET
DTSTART:20271031T010000
END:STANDARD
END:VTIMEZONE
BEGIN:VEVENT
DTSTART;TZID=Europe/Zurich:20260417T143000
DTEND;TZID=Europe/Zurich:20260417T170000
DTSTAMP:20260419T221154
CREATED:20260415T054457Z
LAST-MODIFIED:20260415T054457Z
UID:9148-1776436200-1776445200@usk-switzerland.ch
SUMMARY:Skizzieren in Winterthur-Veltheim
DESCRIPTION:wir treffen uns am Freitag um 14.30 Uhr in Winterthur- Veltheim am Brunnen. Bei voraussichtlich schönem Wetter bietet der hübsche Stadtteil viele interessante Motive und sogar kostenlose Sitzgelegenheiten auf dem zentralen Platz.
URL:https://usk-switzerland.ch/event/skizzieren-in-winterthur-veltheim/
CATEGORIES:USkS Winterthur
ATTACH;FMTTYPE=image/jpeg:https://usk-switzerland.ch/wp-content/uploads/2026/04/IMG_7458.jpeg
END:VEVENT
END:VCALENDAR