BEGIN:VCALENDAR
VERSION:2.0
PRODID:-//Urban Sketchers Switzerland - ECPv6.15.13//NONSGML v1.0//EN
CALSCALE:GREGORIAN
METHOD:PUBLISH
X-WR-CALNAME:Urban Sketchers Switzerland
X-ORIGINAL-URL:https://usk-switzerland.ch
X-WR-CALDESC:Veranstaltungen im Urban Sketchers Switzerland
REFRESH-INTERVAL;VALUE=DURATION:PT1H
X-Robots-Tag:noindex
X-PUBLISHED-TTL:PT1H
BEGIN:VTIMEZONE
TZID:Europe/Zurich
BEGIN:DAYLIGHT
TZOFFSETFROM:+0100
TZOFFSETTO:+0200
TZNAME:CEST
DTSTART:20250330T010000
END:DAYLIGHT
BEGIN:STANDARD
TZOFFSETFROM:+0200
TZOFFSETTO:+0100
TZNAME:CET
DTSTART:20251026T010000
END:STANDARD
BEGIN:DAYLIGHT
TZOFFSETFROM:+0100
TZOFFSETTO:+0200
TZNAME:CEST
DTSTART:20260329T010000
END:DAYLIGHT
BEGIN:STANDARD
TZOFFSETFROM:+0200
TZOFFSETTO:+0100
TZNAME:CET
DTSTART:20261025T010000
END:STANDARD
BEGIN:DAYLIGHT
TZOFFSETFROM:+0100
TZOFFSETTO:+0200
TZNAME:CEST
DTSTART:20270328T010000
END:DAYLIGHT
BEGIN:STANDARD
TZOFFSETFROM:+0200
TZOFFSETTO:+0100
TZNAME:CET
DTSTART:20271031T010000
END:STANDARD
END:VTIMEZONE
BEGIN:VEVENT
DTSTART;TZID=Europe/Zurich:20260531T110000
DTEND;TZID=Europe/Zurich:20260531T160000
DTSTAMP:20260419T204325
CREATED:20260313T112049Z
LAST-MODIFIED:20260313T112707Z
UID:8794-1780225200-1780243200@usk-switzerland.ch
SUMMARY:Portätsketch Zelt-Werk Rorschach
DESCRIPTION:Auch dieses Jahr planen die Urban Sketchers St.Gallen einen PorträtSKETCH unter freiem Himmel. Wie bereits im letzten Jahr wurden wir eingeladen\, beim Zelt-Werk auf dem Chabisplatz in Rorschach mitzuwirken. Der Termin und die spezielle Ambiente am Hafen Rorschach direkt am Wasser ist perfekt\, um bei einem Drink und mit feinem Streetfood gemeinsam in die Sommersaison zu starten. \nAlle Zeichnerinnen und Zeichner sind herzlich eingeladen\, die quer durch das Zelt-Werk gespannte Leine mit den gezeichneten Porträts zu behängen. Wir feuen uns auf euch. \n 
URL:https://usk-switzerland.ch/event/portaetsketch-zelt-werk-rorschach/
CATEGORIES:USkS St. Gallen
ATTACH;FMTTYPE=image/jpeg:https://usk-switzerland.ch/wp-content/uploads/2026/03/Zelt-Werk_1024x576px.jpg
END:VEVENT
END:VCALENDAR