BEGIN:VCALENDAR
VERSION:2.0
PRODID:-//Urban Sketchers Switzerland - ECPv6.15.13//NONSGML v1.0//EN
CALSCALE:GREGORIAN
METHOD:PUBLISH
X-WR-CALNAME:Urban Sketchers Switzerland
X-ORIGINAL-URL:https://usk-switzerland.ch
X-WR-CALDESC:Veranstaltungen im Urban Sketchers Switzerland
REFRESH-INTERVAL;VALUE=DURATION:PT1H
X-Robots-Tag:noindex
X-PUBLISHED-TTL:PT1H
BEGIN:VTIMEZONE
TZID:Europe/Zurich
BEGIN:DAYLIGHT
TZOFFSETFROM:+0100
TZOFFSETTO:+0200
TZNAME:CEST
DTSTART:20240331T010000
END:DAYLIGHT
BEGIN:STANDARD
TZOFFSETFROM:+0200
TZOFFSETTO:+0100
TZNAME:CET
DTSTART:20241027T010000
END:STANDARD
BEGIN:DAYLIGHT
TZOFFSETFROM:+0100
TZOFFSETTO:+0200
TZNAME:CEST
DTSTART:20250330T010000
END:DAYLIGHT
BEGIN:STANDARD
TZOFFSETFROM:+0200
TZOFFSETTO:+0100
TZNAME:CET
DTSTART:20251026T010000
END:STANDARD
BEGIN:DAYLIGHT
TZOFFSETFROM:+0100
TZOFFSETTO:+0200
TZNAME:CEST
DTSTART:20260329T010000
END:DAYLIGHT
BEGIN:STANDARD
TZOFFSETFROM:+0200
TZOFFSETTO:+0100
TZNAME:CET
DTSTART:20261025T010000
END:STANDARD
END:VTIMEZONE
BEGIN:VEVENT
DTSTART;TZID=Europe/Zurich:20251213T113000
DTEND;TZID=Europe/Zurich:20251213T133000
DTSTAMP:20260419T234615
CREATED:20251118T150136Z
LAST-MODIFIED:20251118T150418Z
UID:6891-1765625400-1765632600@usk-switzerland.ch
SUMMARY:Samstag\, 13. Dezember 2025\, komm und zeichne mit uns in der Kletterhalle C+ in Colombier.
DESCRIPTION:Unser nächstes Treffen findet in der Kletterhalle C+ in Colombier statt. Lasst uns versuchen\, den an ihren Seilen hängenden Figuren hinterherzujagen! Es gibt auch Platz im Bistro\, wo sich die Kaffeetrinker sicherlich etwas weniger austoben als die Kletterer! \nTreffpunkt ist um 11 Uhr vor dem Eingang. Der Eintritt ist für Zeichner kostenlos (natürlich nicht zum Klettern). \nEs gibt einen Parkplatz vor der Halle\, aber sie ist auch mit der Küstenstraßenbahn erreichbar\, Haltestelle Colombier Les Chézards. \nEs ist kostenlos\, ohne Druck\, jeder nimmt seine Lieblingsausrüstung mit und zeichnet\, was ihn inspiriert\, und am Ende stellen wir gerne alle Kreationen zusammen\, um sie zu bewundern\, zu teilen und mit einem Gruppenfoto zu verewigen.
URL:https://usk-switzerland.ch/event/samstag-13-dezember-2025-komm-und-zeichne-mit-uns-in-der-kletterhalle-c-in-colombier/
CATEGORIES:USkS Neuenburg
ATTACH;FMTTYPE=image/jpeg:https://usk-switzerland.ch/wp-content/uploads/2025/11/c-salle-pano-2_800-1.jpg
END:VEVENT
END:VCALENDAR