BEGIN:VCALENDAR
VERSION:2.0
PRODID:-//Urban Sketchers Switzerland - ECPv6.15.13//NONSGML v1.0//EN
CALSCALE:GREGORIAN
METHOD:PUBLISH
X-WR-CALNAME:Urban Sketchers Switzerland
X-ORIGINAL-URL:https://usk-switzerland.ch
X-WR-CALDESC:Veranstaltungen im Urban Sketchers Switzerland
REFRESH-INTERVAL;VALUE=DURATION:PT1H
X-Robots-Tag:noindex
X-PUBLISHED-TTL:PT1H
BEGIN:VTIMEZONE
TZID:Europe/Zurich
BEGIN:DAYLIGHT
TZOFFSETFROM:+0100
TZOFFSETTO:+0200
TZNAME:CEST
DTSTART:20250330T010000
END:DAYLIGHT
BEGIN:STANDARD
TZOFFSETFROM:+0200
TZOFFSETTO:+0100
TZNAME:CET
DTSTART:20251026T010000
END:STANDARD
BEGIN:DAYLIGHT
TZOFFSETFROM:+0100
TZOFFSETTO:+0200
TZNAME:CEST
DTSTART:20260329T010000
END:DAYLIGHT
BEGIN:STANDARD
TZOFFSETFROM:+0200
TZOFFSETTO:+0100
TZNAME:CET
DTSTART:20261025T010000
END:STANDARD
BEGIN:DAYLIGHT
TZOFFSETFROM:+0100
TZOFFSETTO:+0200
TZNAME:CEST
DTSTART:20270328T010000
END:DAYLIGHT
BEGIN:STANDARD
TZOFFSETFROM:+0200
TZOFFSETTO:+0100
TZNAME:CET
DTSTART:20271031T010000
END:STANDARD
END:VTIMEZONE
BEGIN:VEVENT
DTSTART;TZID=Europe/Zurich:20260222T100000
DTEND;TZID=Europe/Zurich:20260222T123000
DTSTAMP:20260419T221018
CREATED:20260216T112629Z
LAST-MODIFIED:20260216T112638Z
UID:8461-1771754400-1771763400@usk-switzerland.ch
SUMMARY:Skizzen der Vergangenheit: Session im Museum für Archäologie und Geschichte
DESCRIPTION:Da es noch kalt sein könnte\, schlagen wir für unser fünftes Treffen vor\, uns zu versammeln und die Epoche zu wechseln: \n\nAuf ins Kantonale Museum für Archäologie und Geschichte – Palais de Rumine (Eintritt frei). \nKommt und skizziert die Überreste der Vergangenheit\, Tiere\, antike Silhouetten und verborgene Schätze\, um ihnen in unseren Sketchbooks neues Leben einzuhauchen.\nWir freuen uns sehr darauf\, euch zu dieser neuen gemeinsamen Zeichen‑ und Austauschsession wiederzusehen! \nUnd für alle Motivierten gibt es anschließend noch einen Kaffee – direkt gegenüber vom Palais de Rumine im Sleepy Bar Coffee Riponne.
URL:https://usk-switzerland.ch/event/skizzen-der-vergangenheit-session-im-museum-fuer-archaeologie-und-geschichte/
CATEGORIES:USkS Lausanne
ATTACH;FMTTYPE=image/jpeg:https://usk-switzerland.ch/wp-content/uploads/2026/02/archeo_usk.jpeg
END:VEVENT
BEGIN:VEVENT
DTSTART;TZID=Europe/Zurich:20260124T100000
DTEND;TZID=Europe/Zurich:20260124T120000
DTSTAMP:20260419T221018
CREATED:20260107T150643Z
LAST-MODIFIED:20260107T151423Z
UID:7973-1769248800-1769256000@usk-switzerland.ch
SUMMARY:Kaffee und Sketching Lausanne - Januar 2026
DESCRIPTION:Hallo zusammen\, \n\nIch wünsche euch allen ein fantastisches und glückliches neues Jahr 2026! 🥂 Um das Jahr mit USK Lausanne gut zu starten\, möchten wir uns am Samstag\, den 24. Januar um 10:00 Uhr im Cocinelle Café treffen – für einen Kaffee und gemeinsames Sketching. Danach können wir noch weiterziehen und je nach Lust und Laune weitere Skizzen machen. \nBitte bestätigt eure Teilnahme in unserer WhatsApp-Gruppe\, damit wir einen Tisch mit genügend Platz für alle reservieren können.
URL:https://usk-switzerland.ch/event/kaffee-und-sketching-lausanne-januar-2026/
CATEGORIES:USkS Lausanne
ATTACH;FMTTYPE=image/jpeg:https://usk-switzerland.ch/wp-content/uploads/2026/01/WhatsApp-Image-2026-01-05-at-15.13.18.jpeg
END:VEVENT
END:VCALENDAR