BEGIN:VCALENDAR
VERSION:2.0
PRODID:-//Urban Sketchers Switzerland - ECPv6.15.13//NONSGML v1.0//EN
CALSCALE:GREGORIAN
METHOD:PUBLISH
X-WR-CALNAME:Urban Sketchers Switzerland
X-ORIGINAL-URL:https://usk-switzerland.ch
X-WR-CALDESC:Veranstaltungen im Urban Sketchers Switzerland
REFRESH-INTERVAL;VALUE=DURATION:PT1H
X-Robots-Tag:noindex
X-PUBLISHED-TTL:PT1H
BEGIN:VTIMEZONE
TZID:Europe/Zurich
BEGIN:DAYLIGHT
TZOFFSETFROM:+0100
TZOFFSETTO:+0200
TZNAME:CEST
DTSTART:20250330T010000
END:DAYLIGHT
BEGIN:STANDARD
TZOFFSETFROM:+0200
TZOFFSETTO:+0100
TZNAME:CET
DTSTART:20251026T010000
END:STANDARD
BEGIN:DAYLIGHT
TZOFFSETFROM:+0100
TZOFFSETTO:+0200
TZNAME:CEST
DTSTART:20260329T010000
END:DAYLIGHT
BEGIN:STANDARD
TZOFFSETFROM:+0200
TZOFFSETTO:+0100
TZNAME:CET
DTSTART:20261025T010000
END:STANDARD
BEGIN:DAYLIGHT
TZOFFSETFROM:+0100
TZOFFSETTO:+0200
TZNAME:CEST
DTSTART:20270328T010000
END:DAYLIGHT
BEGIN:STANDARD
TZOFFSETFROM:+0200
TZOFFSETTO:+0100
TZNAME:CET
DTSTART:20271031T010000
END:STANDARD
END:VTIMEZONE
BEGIN:VEVENT
DTSTART;TZID=Europe/Zurich:20260223T150000
DTEND;TZID=Europe/Zurich:20260223T150000
DTSTAMP:20260419T191257
CREATED:20260214T173552Z
LAST-MODIFIED:20260217T113141Z
UID:8262-1771858800-1771858800@usk-switzerland.ch
SUMMARY:Live an der Basler Fasnacht\, Cortège
DESCRIPTION:Wer gerne mitten im Fasnachtstreiben skizzieren möchte\, trifft sich zum Cortège. Auf dem Wettsteinplatz machen die am Cortège Aktiven kurze Pause und es gibt etwas Platz. \nTreffpunkt: 15.00 Uhr Basel\, Wettsteinplatz\, auf der Insel beim Kiosk. \nAchtung: Die Innerstadt ist in dieser Zeit dichtgedrängt voller Leute und es fahren keine öffentlichen Verkehrsmittel. Link zur Cortège-Route: https://fasnacht.ch/service/cortege-route/ \nLink zu Infos über den Fasnachtsmontag: https://www.baslerfasnacht.info/basler-fasnacht/montag/nachmittag \n  \nIch selber werde nicht an diesem Treffen teilnehmen\, freue mich aber über Eure Skizzen (bitte per E-Mail an herrat-usk@bluewin.ch). Liebe Grüsse Herrat
URL:https://usk-switzerland.ch/event/live-an-der-basler-fasnacht-cortege/
CATEGORIES:USkS Basel
ATTACH;FMTTYPE=image/jpeg:https://usk-switzerland.ch/wp-content/uploads/2026/01/Skizze-Ankuendigung_16-9_2-scaled.jpg
END:VEVENT
END:VCALENDAR