BEGIN:VCALENDAR
VERSION:2.0
PRODID:-//Urban Sketchers Switzerland - ECPv6.15.13//NONSGML v1.0//EN
CALSCALE:GREGORIAN
METHOD:PUBLISH
X-WR-CALNAME:Urban Sketchers Switzerland
X-ORIGINAL-URL:https://usk-switzerland.ch
X-WR-CALDESC:Veranstaltungen im Urban Sketchers Switzerland
REFRESH-INTERVAL;VALUE=DURATION:PT1H
X-Robots-Tag:noindex
X-PUBLISHED-TTL:PT1H
BEGIN:VTIMEZONE
TZID:Europe/Zurich
BEGIN:DAYLIGHT
TZOFFSETFROM:+0100
TZOFFSETTO:+0200
TZNAME:CEST
DTSTART:20250330T010000
END:DAYLIGHT
BEGIN:STANDARD
TZOFFSETFROM:+0200
TZOFFSETTO:+0100
TZNAME:CET
DTSTART:20251026T010000
END:STANDARD
BEGIN:DAYLIGHT
TZOFFSETFROM:+0100
TZOFFSETTO:+0200
TZNAME:CEST
DTSTART:20260329T010000
END:DAYLIGHT
BEGIN:STANDARD
TZOFFSETFROM:+0200
TZOFFSETTO:+0100
TZNAME:CET
DTSTART:20261025T010000
END:STANDARD
BEGIN:DAYLIGHT
TZOFFSETFROM:+0100
TZOFFSETTO:+0200
TZNAME:CEST
DTSTART:20270328T010000
END:DAYLIGHT
BEGIN:STANDARD
TZOFFSETFROM:+0200
TZOFFSETTO:+0100
TZNAME:CET
DTSTART:20271031T010000
END:STANDARD
END:VTIMEZONE
BEGIN:VEVENT
DTSTART;TZID=Europe/Zurich:20260224T150000
DTEND;TZID=Europe/Zurich:20260224T150000
DTSTAMP:20260419T234205
CREATED:20260214T173105Z
LAST-MODIFIED:20260209T173609Z
UID:8275-1771945200-1771945200@usk-switzerland.ch
SUMMARY:Live am Basler Fasnachtsdienstag
DESCRIPTION:Mitten im Fasnachtstreiben skizzieren am verspielten\, chaotischen Fasnachtsdienstag der Kinder\, der kleinen Grüppchen (Schyyssdräggziigli). Link zu Infos über den Fasnachtsdienstag: https://www.baslerfasnacht.info/basler-fasnacht/dienstag/nachmittag \nTreffpunkt: 15.00 Uhr\, Basel Leonhardskirche\, am Eingang der Kirche. \nAchtung: Die Innerstadt ist in dieser Zeit dichtgedrängt voller Leute und es fahren keine Trams. \nIch selber werde nicht an diesem Treffen teilnehmen\, freue mich aber über Eure Skizzen (bitte per E-Mail an herrat-usk@bluewin.ch)
URL:https://usk-switzerland.ch/event/live-am-basler-fasnachtsdienstag/
CATEGORIES:USkS Basel
ATTACH;FMTTYPE=image/jpeg:https://usk-switzerland.ch/wp-content/uploads/2026/01/Skizze-Ankuendigung_16-9_2-scaled.jpg
END:VEVENT
END:VCALENDAR