BEGIN:VCALENDAR
VERSION:2.0
PRODID:-//Urban Sketchers Switzerland - ECPv6.15.13//NONSGML v1.0//EN
CALSCALE:GREGORIAN
METHOD:PUBLISH
X-ORIGINAL-URL:https://usk-switzerland.ch
X-WR-CALDESC:Events for Urban Sketchers Switzerland
REFRESH-INTERVAL;VALUE=DURATION:PT1H
X-Robots-Tag:noindex
X-PUBLISHED-TTL:PT1H
BEGIN:VTIMEZONE
TZID:Europe/Zurich
BEGIN:DAYLIGHT
TZOFFSETFROM:+0100
TZOFFSETTO:+0200
TZNAME:CEST
DTSTART:20250330T010000
END:DAYLIGHT
BEGIN:STANDARD
TZOFFSETFROM:+0200
TZOFFSETTO:+0100
TZNAME:CET
DTSTART:20251026T010000
END:STANDARD
BEGIN:DAYLIGHT
TZOFFSETFROM:+0100
TZOFFSETTO:+0200
TZNAME:CEST
DTSTART:20260329T010000
END:DAYLIGHT
BEGIN:STANDARD
TZOFFSETFROM:+0200
TZOFFSETTO:+0100
TZNAME:CET
DTSTART:20261025T010000
END:STANDARD
BEGIN:DAYLIGHT
TZOFFSETFROM:+0100
TZOFFSETTO:+0200
TZNAME:CEST
DTSTART:20270328T010000
END:DAYLIGHT
BEGIN:STANDARD
TZOFFSETFROM:+0200
TZOFFSETTO:+0100
TZNAME:CET
DTSTART:20271031T010000
END:STANDARD
END:VTIMEZONE
BEGIN:VEVENT
DTSTART;TZID=Europe/Zurich:20260509T110000
DTEND;TZID=Europe/Zurich:20260509T133000
DTSTAMP:20260419T233050
CREATED:20260206T093206Z
LAST-MODIFIED:20260410T102709Z
UID:9034-1778324400-1778333400@usk-switzerland.ch
SUMMARY:USK-Neuchâtel l Rencontre du mois de mai
DESCRIPTION:Rendez-vous le 9 mai 2026 pour notre rencontre mensuelle d’Urban Sketching.Le spot n’est pas encore arrêté\, mais une chose est sûre : carnets et crayons seront de sortie.Le lieu sera dévoilé prochainement… suspense garanti !
URL:https://usk-switzerland.ch/en/event/usk-neuchatel-l-rencontre-du-mois-de-mars/
CATEGORIES:USkS Neuchâtel
ATTACH;FMTTYPE=image/jpeg:https://usk-switzerland.ch/wp-content/uploads/2026/02/9-mai-2026-1.jpg
END:VEVENT
BEGIN:VEVENT
DTSTART;TZID=Europe/Zurich:20260514T000000
DTEND;TZID=Europe/Zurich:20260517T235959
DTSTAMP:20260419T233050
CREATED:20251201T144934Z
LAST-MODIFIED:20251218T151839Z
UID:7599-1778716800-1779062399@usk-switzerland.ch
SUMMARY:4. USk-Weekend Intragna 2026\, Auffahrt
DESCRIPTION:Das vierte Urbansketcher-Weekend in Intragna ist ein verlängertes Wochenende\, in welchem wir uns dem Zeichnen in der Umgebung widmen. Wir verbringen gemeinsam vier Tage mit Workshops\, Sketchwalks und je nach persönlichen Vorlieben mit gemeinsamen Nachtessen. Die vier WorkshopleiterInnen bieten ein breites Spektrum an individuellen Arten des Urbansketching und einen Einblick in verschiedene Zeichentechniken. \nKurslokal ist der Bildraum Miravalle in Intragna. Wir treffen uns jeweils in der Galerie zur Einführung des Workshops und zeichnen anschliessend im Ort und in der nahen Umgebung.\nJe nach Wetter werden wir am Nachmittag gemeinsam Sketchwalks machen\, im Ort oder an der Melezza zeichnen.\nDie Nachtessen können gemeinsam oder individuell organisiert werden.\nFür Anreise und Übernachtungen sind die KursteilnehmerInnen selbständig besorgt. \nDauer: Donnerstag\, 14. Mai\, 12:00 Uhr bis Sonntag\, 17: Mai 13:00 Uhr \nDas Programm und Anmeldeinformationen findest du auf: usk-week.ch
URL:https://usk-switzerland.ch/en/event/4-usk-weekend-intragna-2026-auffahrt/
CATEGORIES:Intragna
ATTACH;FMTTYPE=image/jpeg:https://usk-switzerland.ch/wp-content/uploads/2025/12/USk-weekend-Intragna-2026-Flyer.jpg
END:VEVENT
BEGIN:VEVENT
DTSTART;TZID=Europe/Zurich:20260531T110000
DTEND;TZID=Europe/Zurich:20260531T160000
DTSTAMP:20260419T233050
CREATED:20260313T112049Z
LAST-MODIFIED:20260313T112210Z
UID:8800-1780225200-1780243200@usk-switzerland.ch
SUMMARY:PorträtSKETCH Zelt-Werk Rorschach
DESCRIPTION:Once again this year\, the Urban Sketchers St. Gallen are planning an open-air portrait sketch event. Just like last year\, we’ve been invited to participate at the Zelt-Werk on Chabisplatz in Rorschach. The date and the special atmosphere at Rorschach Harbor\, right right on the shores of Lake Constance\, are perfect for kicking off the summer season together with a drink and some delicious street food. \nAll artists are warmly invited to hang their drawn portraits on the line stretched across the Zelt-Werk. We look forward to seeing you there.
URL:https://usk-switzerland.ch/en/event/portraetsketch-zelt-werk-rorschach/
CATEGORIES:USkS St. Gallen
ATTACH;FMTTYPE=image/jpeg:https://usk-switzerland.ch/wp-content/uploads/2026/03/Zelt-Werk_1024x576px.jpg
END:VEVENT
BEGIN:VEVENT
DTSTART;TZID=Europe/Zurich:20260606T110000
DTEND;TZID=Europe/Zurich:20260606T133000
DTSTAMP:20260419T233050
CREATED:20260410T102438Z
LAST-MODIFIED:20260410T102515Z
UID:9096-1780743600-1780752600@usk-switzerland.ch
SUMMARY:USK-Neuchâtel l Rencontre du mois de juin
DESCRIPTION:La rencontre mensuelle du mois de juin aura lieu le samedi 6 juin 2026\, de 11h à 13h30. \nLe lieu n’est pas encore défini\, mais préparez déjà vos carnets et vos crayons : une nouvelle session de dessin nous attend ! \nLe spot sera communiqué peu avant la date. Une chose est sûre : nous dessinerons dans notre jolie ville de Neuchâtel ou dans ses environs proches… encore un peu de patience.
URL:https://usk-switzerland.ch/en/event/usk-neuchatel-l-rencontre-du-mois-de-juin/
CATEGORIES:USkS Neuchâtel
ATTACH;FMTTYPE=image/jpeg:https://usk-switzerland.ch/wp-content/uploads/2026/04/6-juin-2026.jpg
END:VEVENT
BEGIN:VEVENT
DTSTART;TZID=Europe/Zurich:20260726T000000
DTEND;TZID=Europe/Zurich:20260801T235959
DTSTAMP:20260419T233050
CREATED:20260106T095909Z
LAST-MODIFIED:20260106T095909Z
UID:7924-1785024000-1785628799@usk-switzerland.ch
SUMMARY:USk-week 2026 Intragna\, Ticino
DESCRIPTION:The 7th Urban Sketchers Week 2026 in Intragna will take place again at the end of July. \nThe workshops will be offered by: \n\nEleanor Doughty\, Seattle\nJenny Adam\, Hamburg\nStéphanie Senez\, Paris\nRolf Schröter\, Berlin\n\nYou can find the program and the registration form (PDF) at usk-week.ch \nAccommodation: Participants are responsible for their own accommodation. Hotels are listed in the program. \nMeals: Breakfast and lunch are on your own; dinner can be eaten individually or together at restaurants and grottos in the area. \nParticipants: A maximum of 12 participants per workshop\, for a total of 24. \nUSK Week welcomes everyone who enjoys drawing. No prior experience is necessary. \nLanguage: The workshops led by Jenny Adam and Rolf Schröter will be held in German\, while those led by Eleanor Doughty and Stéphanie Senez will be in English. \nCurrent Information:\nBefore each workshop\, at 8:50 a.m.\, participants will be informed about the program details and meeting points for the sketchwalks. \nShort-notice program changes are possible. \nMaterials and Preparation:\nBring your preferred materials such as pencils\, brushes\, paints\, sketchbooks\, and drawing pads. The specific materials required for each workshop are listed in the workshop descriptions. \nWeatherproof clothing\, shoes with good tread or hiking boots\, a backpack\, hiking poles (optional)\, sun and rain protection\, and swimwear are recommended. Participation in the hikes is voluntary and requires a good level of fitness appropriate for the trails in Ticino. \nParticipants are responsible for their own suitable hiking equipment\, preparations\, and insurance.
URL:https://usk-switzerland.ch/en/event/usk-week-2026-intragna-ticino/
CATEGORIES:Intragna
ATTACH;FMTTYPE=image/jpeg:https://usk-switzerland.ch/wp-content/uploads/2026/01/7-USK-Week-Intragna-2026-Flyer5.jpg
END:VEVENT
BEGIN:VEVENT
DTSTART;TZID=Europe/Zurich:20260816T140000
DTEND;TZID=Europe/Zurich:20260816T170000
DTSTAMP:20260419T233050
CREATED:20260401T175218Z
LAST-MODIFIED:20260403T113637Z
UID:8993-1786888800-1786899600@usk-switzerland.ch
SUMMARY:SKETCHcrawl in Rorschach
DESCRIPTION:USk St. Gallen invites all urban sketchers and anyone who enjoys sketching together to the SKETCHcrawl in Rorschach. The event serves as a pre-event for the 8th Swiss Urban Sketchers Symposium 2026\, taking place in St. Gallen in September\, and\, together with the preceding three-day exhibition «Urban Sketching» in the region\, aims to raise awareness of urban sketching and the drawing gathering. \nDate: Sunday\, August 16\, 2026 \nTime: 2:00 – 5:00 p.m. \nMeeting point: TRAFO\, Stadtwald\, 9400 Rorschach \nThe SKETCHcrawl marks the conclusion of the exhibition «Urban Sketching»\, organized by the Kunstverein Rorschach in collaboration with the Urban Sketchers St. Gallen. We invite a diverse selection of urban sketchers to exhibit their sketchbooks\, loose drawings\, or even framed artwork during the three-day exhibition from August 14–16\, 2026\, at TRAFO Rorschach. This call is open to all artists\, regardless of where they live or whether they belong to a USk regional group. Anyone interested in contributing their sketches and drawings to the exhibition can find more information here or feel free to contact Lukas Mosimann by email. \nAnyone can participate in the SKETCHcrawl; no registration is required\, and participation is free. Just pack your own drawing supplies and let’s get started. Following the SKETCHcrawl\, the resulting drawings can be displayed at the exhibition’s closing reception. \nSee you soon in Rorschach
URL:https://usk-switzerland.ch/en/event/sketchcrawl-in-rorschach/
CATEGORIES:Symposium,USkS St. Gallen
ATTACH;FMTTYPE=image/jpeg:https://usk-switzerland.ch/wp-content/uploads/2026/04/Beitragbild_TRAFO-Rorschach_1024x576px.jpg
END:VEVENT
BEGIN:VEVENT
DTSTART;TZID=Europe/Zurich:20260903T000000
DTEND;TZID=Europe/Zurich:20260905T235959
DTSTAMP:20260419T233050
CREATED:20260118T175223Z
LAST-MODIFIED:20260312T161527Z
UID:8130-1788393600-1788652799@usk-switzerland.ch
SUMMARY:8th Swiss Urban Sketchers Symposium 2026 in St.Gallen
DESCRIPTION:The city of St.Gallen is famous for its picturesque old town with 111 ornate bay windows. The Abbey District\, with its impressive Baroque cathedral and the opulent Rococo hall of the Abbey Library\, is a UNESCO World Heritage Site. Here\, history can be experienced at every turn.  From September 3–5\, 2026\, urban sketchers from near and far will gather here to discover the city through drawing. The focus will be on drawing together and personal exchange. All artists are welcome\, regardless of skill level\, experience\, background\, or age. \nIn St.Gallen\, we are breaking new ground. At this year’s USk meeting\, we are offering you a program that focuses on drawing together and personal exchange… without workshops. We are focusing on 4 SketchWalks with a total of 18 SketchPoints\, during which we will discover the alleys and corners of the historic city of St. Gallen together. We also offer a great supporting program with plenty of opportunity to talk shop with old and new friends\, and we’ll give you an inspiring souvenir to take home with you. But you can also look forward to lots of familiar features – the organizing committee is already working on the program with enthusiasm and dedication. Our website www.symposium.usk-switzerland.ch is now online and will gradually provide you with further information.
URL:https://usk-switzerland.ch/en/event/8th-swiss-urban-sketchers-symposium-2026-in-st-gallen/
CATEGORIES:Symposium,USkS St. Gallen
ATTACH;FMTTYPE=image/jpeg:https://usk-switzerland.ch/wp-content/uploads/2026/01/260118_USkSG2026.jpg
END:VEVENT
END:VCALENDAR