BEGIN:VCALENDAR
VERSION:2.0
PRODID:-//Urban Sketchers Switzerland - ECPv6.15.13//NONSGML v1.0//EN
CALSCALE:GREGORIAN
METHOD:PUBLISH
X-WR-CALNAME:Urban Sketchers Switzerland
X-ORIGINAL-URL:https://usk-switzerland.ch
X-WR-CALDESC:Events for Urban Sketchers Switzerland
REFRESH-INTERVAL;VALUE=DURATION:PT1H
X-Robots-Tag:noindex
X-PUBLISHED-TTL:PT1H
BEGIN:VTIMEZONE
TZID:Europe/Zurich
BEGIN:DAYLIGHT
TZOFFSETFROM:+0100
TZOFFSETTO:+0200
TZNAME:CEST
DTSTART:20250330T010000
END:DAYLIGHT
BEGIN:STANDARD
TZOFFSETFROM:+0200
TZOFFSETTO:+0100
TZNAME:CET
DTSTART:20251026T010000
END:STANDARD
BEGIN:DAYLIGHT
TZOFFSETFROM:+0100
TZOFFSETTO:+0200
TZNAME:CEST
DTSTART:20260329T010000
END:DAYLIGHT
BEGIN:STANDARD
TZOFFSETFROM:+0200
TZOFFSETTO:+0100
TZNAME:CET
DTSTART:20261025T010000
END:STANDARD
BEGIN:DAYLIGHT
TZOFFSETFROM:+0100
TZOFFSETTO:+0200
TZNAME:CEST
DTSTART:20270328T010000
END:DAYLIGHT
BEGIN:STANDARD
TZOFFSETFROM:+0200
TZOFFSETTO:+0100
TZNAME:CET
DTSTART:20271031T010000
END:STANDARD
END:VTIMEZONE
BEGIN:VEVENT
DTSTART;TZID=Europe/Zurich:20260201T100000
DTEND;TZID=Europe/Zurich:20260201T120000
DTSTAMP:20260420T070011
CREATED:20260127T173624Z
LAST-MODIFIED:20260127T174000Z
UID:8231-1769940000-1769947200@usk-switzerland.ch
SUMMARY:Drawing at the Rietberg Museum (Zurich)
DESCRIPTION:The Museum Rietberg’s exhibition “Mongolia – A Journey through Time” connects archaeology\, history and the present: over 200 loans from Mongolian museums\, early urban centres\, craftsmanship and art\, plus insights into today’s life between city and steppe. For urban sketchers this means crisp shapes\, ornamental details\, textiles and characterful objects\, along with the museum’s architecture and spaces. \n  \nWe meet in front of the museum at the main entrance\, which opens at 10:00. Admission is CHF 18. Only pencils and coloured pencils may be taken into and used in the exhibition. Large bags/backpacks are not permitted – please use the lockers and bring coins for a possible deposit. As in most museums\, chairs are available on site.
URL:https://usk-switzerland.ch/en/event/drawing-at-the-rietberg-museum-zurich/
CATEGORIES:USkS Zurich
ATTACH;FMTTYPE=image/jpeg:https://usk-switzerland.ch/wp-content/uploads/2026/01/2026-02-Rietberg.jpeg
END:VEVENT
END:VCALENDAR