BEGIN:VCALENDAR
VERSION:2.0
PRODID:-//Urban Sketchers Switzerland - ECPv6.15.13//NONSGML v1.0//EN
CALSCALE:GREGORIAN
METHOD:PUBLISH
X-ORIGINAL-URL:https://usk-switzerland.ch
X-WR-CALDESC:Events for Urban Sketchers Switzerland
REFRESH-INTERVAL;VALUE=DURATION:PT1H
X-Robots-Tag:noindex
X-PUBLISHED-TTL:PT1H
BEGIN:VTIMEZONE
TZID:Europe/Zurich
BEGIN:DAYLIGHT
TZOFFSETFROM:+0100
TZOFFSETTO:+0200
TZNAME:CEST
DTSTART:20250330T010000
END:DAYLIGHT
BEGIN:STANDARD
TZOFFSETFROM:+0200
TZOFFSETTO:+0100
TZNAME:CET
DTSTART:20251026T010000
END:STANDARD
BEGIN:DAYLIGHT
TZOFFSETFROM:+0100
TZOFFSETTO:+0200
TZNAME:CEST
DTSTART:20260329T010000
END:DAYLIGHT
BEGIN:STANDARD
TZOFFSETFROM:+0200
TZOFFSETTO:+0100
TZNAME:CET
DTSTART:20261025T010000
END:STANDARD
BEGIN:DAYLIGHT
TZOFFSETFROM:+0100
TZOFFSETTO:+0200
TZNAME:CEST
DTSTART:20270328T010000
END:DAYLIGHT
BEGIN:STANDARD
TZOFFSETFROM:+0200
TZOFFSETTO:+0100
TZNAME:CET
DTSTART:20271031T010000
END:STANDARD
END:VTIMEZONE
BEGIN:VEVENT
DTSTART;TZID=Europe/Zurich:20260425T100000
DTEND;TZID=Europe/Zurich:20260425T120000
DTSTAMP:20260419T160610
CREATED:20260414T152742Z
LAST-MODIFIED:20260414T180740Z
UID:9138-1777111200-1777118400@usk-switzerland.ch
SUMMARY:USk Yverdon du 25 avril
DESCRIPTION:Notre prochaine rencontre\, qui aura lieu le samedi 25 avril.\nNous vous proposons de dessiner au quai de Nogent.\nEn plus de l’ambiance du bord du lac\, nous y trouverons la belle ambiance de la brocante traditionnelle d’Yverdon\, ce jour-là… de quoi nourrir notre carnet ! \n📍 Rendez-vous devant l’embarcadère du quai de Nogent à 10h. \nAu plaisir de croquer ensemble !
URL:https://usk-switzerland.ch/en/event/usk-yverdon-du-25-avril/
CATEGORIES:USkS Yverdon
ATTACH;FMTTYPE=image/png:https://usk-switzerland.ch/wp-content/uploads/2026/04/USK_annonce_avril_26_01_01.png
END:VEVENT
END:VCALENDAR