BEGIN:VCALENDAR
VERSION:2.0
PRODID:-//Urban Sketchers Switzerland - ECPv6.15.13//NONSGML v1.0//EN
CALSCALE:GREGORIAN
METHOD:PUBLISH
X-WR-CALNAME:Urban Sketchers Switzerland
X-ORIGINAL-URL:https://usk-switzerland.ch
X-WR-CALDESC:Events for Urban Sketchers Switzerland
REFRESH-INTERVAL;VALUE=DURATION:PT1H
X-Robots-Tag:noindex
X-PUBLISHED-TTL:PT1H
BEGIN:VTIMEZONE
TZID:Europe/Zurich
BEGIN:DAYLIGHT
TZOFFSETFROM:+0100
TZOFFSETTO:+0200
TZNAME:CEST
DTSTART:20240331T010000
END:DAYLIGHT
BEGIN:STANDARD
TZOFFSETFROM:+0200
TZOFFSETTO:+0100
TZNAME:CET
DTSTART:20241027T010000
END:STANDARD
BEGIN:DAYLIGHT
TZOFFSETFROM:+0100
TZOFFSETTO:+0200
TZNAME:CEST
DTSTART:20250330T010000
END:DAYLIGHT
BEGIN:STANDARD
TZOFFSETFROM:+0200
TZOFFSETTO:+0100
TZNAME:CET
DTSTART:20251026T010000
END:STANDARD
BEGIN:DAYLIGHT
TZOFFSETFROM:+0100
TZOFFSETTO:+0200
TZNAME:CEST
DTSTART:20260329T010000
END:DAYLIGHT
BEGIN:STANDARD
TZOFFSETFROM:+0200
TZOFFSETTO:+0100
TZNAME:CET
DTSTART:20261025T010000
END:STANDARD
BEGIN:DAYLIGHT
TZOFFSETFROM:+0100
TZOFFSETTO:+0200
TZNAME:CEST
DTSTART:20270328T010000
END:DAYLIGHT
BEGIN:STANDARD
TZOFFSETFROM:+0200
TZOFFSETTO:+0100
TZNAME:CET
DTSTART:20271031T010000
END:STANDARD
END:VTIMEZONE
BEGIN:VEVENT
DTSTART;TZID=Europe/Zurich:20260411T110000
DTEND;TZID=Europe/Zurich:20260411T133000
DTSTAMP:20260419T173722
CREATED:20260206T093447Z
LAST-MODIFIED:20260410T095644Z
UID:9027-1775905200-1775914200@usk-switzerland.ch
SUMMARY:USK-Neuchâtel l Rencontre du mois d'avril
DESCRIPTION:On se retrouve le samedi 11 avril 2026 devant la boutique de chaussures\, Faubourg du Lac 11\, 2000 Neuchâtel pour notre rendez-vous mensuel d’Urban Sketching. \nLa rencontre à lieu de 11h à 13h30 avec un moment de partage en fin de session et pour la traditionnel photo de groupe. \nAu plaisir de dessiner avec vous. \n  \nCélestine\, Katharina et Géraldine
URL:https://usk-switzerland.ch/en/event/usk-neuchatel-l-rencontre-du-mois-davril/
CATEGORIES:USkS Neuchâtel
ATTACH;FMTTYPE=image/jpeg:https://usk-switzerland.ch/wp-content/uploads/2026/02/IMG_7823.jpg
END:VEVENT
BEGIN:VEVENT
DTSTART;TZID=Europe/Zurich:20260207T110000
DTEND;TZID=Europe/Zurich:20260207T133000
DTSTAMP:20260419T173722
CREATED:20260206T090853Z
LAST-MODIFIED:20260406T154811Z
UID:9031-1770462000-1770471000@usk-switzerland.ch
SUMMARY:Musée de la Tour du Fantastique\, Neuchâtel
DESCRIPTION:Pour notre prochaine rencontre qui a lieu ce samedi 7 février 2026 de 11h à 13h30 nous vous proposons de nous rencontrer au nouveau musée de la tour du fantastique: https://tourdufantastique.com/ Le prix de l’entrée est de CHF 15.– par personne.
URL:https://usk-switzerland.ch/en/event/musee-de-la-tour-du-fantastique-neuchatel/
CATEGORIES:USkS Neuchâtel
ATTACH;FMTTYPE=image/jpeg:https://usk-switzerland.ch/wp-content/uploads/2026/02/PHOTO-2026-02-02-16-13-26.jpeg
END:VEVENT
BEGIN:VEVENT
DTSTART;TZID=Europe/Zurich:20251213T113000
DTEND;TZID=Europe/Zurich:20251213T133000
DTSTAMP:20260419T173722
CREATED:20251118T150136Z
LAST-MODIFIED:20251118T150647Z
UID:6893-1765625400-1765632600@usk-switzerland.ch
SUMMARY:Saturday\, December 13\, 2025\, come draw with us at the C+ climbing gym in Colombier.
DESCRIPTION:Our next meeting will take place at the C+ climbing gym in Colombier. Come on\, let’s try chasing characters hanging from their ropes! There’s also a place to sit down at the café\, where coffee drinkers are probably a little less energetic than climbers! \nMeet at 11 a.m. in front of the entrance. Admission is free for sketchers (not for climbing\, of course). \nThere is parking in front of the gym\, but it is also accessible by the coastal tram\, Colombier Les Chézards stop. \nIt’s free\, no pressure\, everyone brings their favorite materials and draws whatever inspires them\, and at the end we love to put all the creations together to admire\, share\, and immortalize with a group photo.
URL:https://usk-switzerland.ch/en/event/saturday-december-13-2025-come-draw-with-us-at-the-c-climbing-gym-in-colombier/
CATEGORIES:USkS Neuchâtel
ATTACH;FMTTYPE=image/jpeg:https://usk-switzerland.ch/wp-content/uploads/2025/11/c-salle-pano-2_800-1.jpg
END:VEVENT
END:VCALENDAR