BEGIN:VCALENDAR
VERSION:2.0
PRODID:-//Urban Sketchers Switzerland - ECPv6.15.13//NONSGML v1.0//EN
CALSCALE:GREGORIAN
METHOD:PUBLISH
X-WR-CALNAME:Urban Sketchers Switzerland
X-ORIGINAL-URL:https://usk-switzerland.ch
X-WR-CALDESC:Events for Urban Sketchers Switzerland
REFRESH-INTERVAL;VALUE=DURATION:PT1H
X-Robots-Tag:noindex
X-PUBLISHED-TTL:PT1H
BEGIN:VTIMEZONE
TZID:Europe/Zurich
BEGIN:DAYLIGHT
TZOFFSETFROM:+0100
TZOFFSETTO:+0200
TZNAME:CEST
DTSTART:20250330T010000
END:DAYLIGHT
BEGIN:STANDARD
TZOFFSETFROM:+0200
TZOFFSETTO:+0100
TZNAME:CET
DTSTART:20251026T010000
END:STANDARD
BEGIN:DAYLIGHT
TZOFFSETFROM:+0100
TZOFFSETTO:+0200
TZNAME:CEST
DTSTART:20260329T010000
END:DAYLIGHT
BEGIN:STANDARD
TZOFFSETFROM:+0200
TZOFFSETTO:+0100
TZNAME:CET
DTSTART:20261025T010000
END:STANDARD
BEGIN:DAYLIGHT
TZOFFSETFROM:+0100
TZOFFSETTO:+0200
TZNAME:CEST
DTSTART:20270328T010000
END:DAYLIGHT
BEGIN:STANDARD
TZOFFSETFROM:+0200
TZOFFSETTO:+0100
TZNAME:CET
DTSTART:20271031T010000
END:STANDARD
END:VTIMEZONE
BEGIN:VEVENT
DTSTART;TZID=Europe/Zurich:20260321T100000
DTEND;TZID=Europe/Zurich:20260321T120000
DTSTAMP:20260420T010503
CREATED:20260317T202602Z
LAST-MODIFIED:20260317T202749Z
UID:8882-1774087200-1774094400@usk-switzerland.ch
SUMMARY:Sketchcrawl\, Sabato 21 Marzo a Locarno
DESCRIPTION:Questo marzo ci troviamo in piazza San Francesco. Purtroppo le previsioni non sono buone per questo sabato\, in questo caso l’incontro verra cancellato. (aspettero fino al ultimo momento per decidere\, ho ancora speranza che possa migliorare) \nSperando di vedervi in tanti sabato mattina\, via auguro una buona settimana. \nOra: 10.00-12.00 \nGiorno: Sabato 21 marzo \nLuogo: Piazza San Francesco\, Locarno \nPer chi viene in treno\, dalla Stazione di Locarno prendere i bus numero 1\, 4 o 7 e scendere il Piazza Castello. Il tempo di percorrenza e di 5 minuti. \nL’incontro è rivolto a tutti coloro che amano disegnare. Non è necessario iscriversi e non costa nulla. Basta portare il proprio materiale da disegno e si parte. \n  \n  \n  \n 
URL:https://usk-switzerland.ch/en/event/sketchcrawl-sabato-21-marzo-a-locarno/
CATEGORIES:USkS Locarno
ATTACH;FMTTYPE=image/jpeg:https://usk-switzerland.ch/wp-content/uploads/2026/03/usk-pzaS-francesco-scaled.jpg
END:VEVENT
END:VCALENDAR