BEGIN:VCALENDAR
VERSION:2.0
PRODID:-//Urban Sketchers Switzerland - ECPv6.15.13//NONSGML v1.0//EN
CALSCALE:GREGORIAN
METHOD:PUBLISH
X-ORIGINAL-URL:https://usk-switzerland.ch
X-WR-CALDESC:Events for Urban Sketchers Switzerland
REFRESH-INTERVAL;VALUE=DURATION:PT1H
X-Robots-Tag:noindex
X-PUBLISHED-TTL:PT1H
BEGIN:VTIMEZONE
TZID:Europe/Zurich
BEGIN:DAYLIGHT
TZOFFSETFROM:+0100
TZOFFSETTO:+0200
TZNAME:CEST
DTSTART:20250330T010000
END:DAYLIGHT
BEGIN:STANDARD
TZOFFSETFROM:+0200
TZOFFSETTO:+0100
TZNAME:CET
DTSTART:20251026T010000
END:STANDARD
BEGIN:DAYLIGHT
TZOFFSETFROM:+0100
TZOFFSETTO:+0200
TZNAME:CEST
DTSTART:20260329T010000
END:DAYLIGHT
BEGIN:STANDARD
TZOFFSETFROM:+0200
TZOFFSETTO:+0100
TZNAME:CET
DTSTART:20261025T010000
END:STANDARD
BEGIN:DAYLIGHT
TZOFFSETFROM:+0100
TZOFFSETTO:+0200
TZNAME:CEST
DTSTART:20270328T010000
END:DAYLIGHT
BEGIN:STANDARD
TZOFFSETFROM:+0200
TZOFFSETTO:+0100
TZNAME:CET
DTSTART:20271031T010000
END:STANDARD
END:VTIMEZONE
BEGIN:VEVENT
DTSTART;TZID=Europe/Zurich:20260222T100000
DTEND;TZID=Europe/Zurich:20260222T123000
DTSTAMP:20260420T052524
CREATED:20260216T112629Z
LAST-MODIFIED:20260216T112659Z
UID:8465-1771754400-1771763400@usk-switzerland.ch
SUMMARY:Sketches of the Past: Session at the Museum of Archaeology and History
DESCRIPTION:Since it might still be cold\, for our fifth meetup we suggest gathering together and travelling to another era: \n\nLet’s head to the Cantonal Museum of Archaeology and History – Palais de Rumine (free entrance). \nCome sketch the remains of the past\, animals\, ancient silhouettes\, and hidden treasures\, bringing them back to life in our sketchbooks.\nWe can’t wait to see you again for this new morning of drawing and sharing! \nAnd for those who are up for it\, we can grab a coffee afterwards – just across from the Palais de Rumine at Sleepy Bar Coffee Riponne.
URL:https://usk-switzerland.ch/en/event/sketches-of-the-past-session-at-the-museum-of-archaeology-and-history/
CATEGORIES:USkS Lausanne
ATTACH;FMTTYPE=image/jpeg:https://usk-switzerland.ch/wp-content/uploads/2026/02/archeo_usk.jpeg
END:VEVENT
END:VCALENDAR