BEGIN:VCALENDAR
VERSION:2.0
PRODID:-//Urban Sketchers Switzerland - ECPv6.15.13//NONSGML v1.0//EN
CALSCALE:GREGORIAN
METHOD:PUBLISH
X-WR-CALNAME:Urban Sketchers Switzerland
X-ORIGINAL-URL:https://usk-switzerland.ch
X-WR-CALDESC:Events for Urban Sketchers Switzerland
REFRESH-INTERVAL;VALUE=DURATION:PT1H
X-Robots-Tag:noindex
X-PUBLISHED-TTL:PT1H
BEGIN:VTIMEZONE
TZID:Europe/Zurich
BEGIN:DAYLIGHT
TZOFFSETFROM:+0100
TZOFFSETTO:+0200
TZNAME:CEST
DTSTART:20250330T010000
END:DAYLIGHT
BEGIN:STANDARD
TZOFFSETFROM:+0200
TZOFFSETTO:+0100
TZNAME:CET
DTSTART:20251026T010000
END:STANDARD
BEGIN:DAYLIGHT
TZOFFSETFROM:+0100
TZOFFSETTO:+0200
TZNAME:CEST
DTSTART:20260329T010000
END:DAYLIGHT
BEGIN:STANDARD
TZOFFSETFROM:+0200
TZOFFSETTO:+0100
TZNAME:CET
DTSTART:20261025T010000
END:STANDARD
BEGIN:DAYLIGHT
TZOFFSETFROM:+0100
TZOFFSETTO:+0200
TZNAME:CEST
DTSTART:20270328T010000
END:DAYLIGHT
BEGIN:STANDARD
TZOFFSETFROM:+0200
TZOFFSETTO:+0100
TZNAME:CET
DTSTART:20271031T010000
END:STANDARD
END:VTIMEZONE
BEGIN:VEVENT
DTSTART;TZID=Europe/Zurich:20260224T150000
DTEND;TZID=Europe/Zurich:20260224T150000
DTSTAMP:20260419T221045
CREATED:20260214T173105Z
LAST-MODIFIED:20260130T100128Z
UID:8281-1771945200-1771945200@usk-switzerland.ch
SUMMARY:Live on Basel Carnival Tuesday
DESCRIPTION:In the midst of the carnival celebrations\, sketch the playful\, chaotic Carnival Tuesday of the children\, the small groups (Schyyssdräggziigli). Link to information about Carnival Tuesday: https://www.baslerfasnacht.info/basler-fasnacht/dienstag/nachmittag \nMeeting point: 3 p.m. Basel Leonhardskirche\, at the entrance to the church. \nPlease note: The city centre is very crowded at this time and there are no trams running. \nI will not be attending this meeting myself\, but I look forward to seeing your sketches (please email them to herrat-usk@bluewin.ch). Best regards Herrat
URL:https://usk-switzerland.ch/en/event/live-on-basel-carnival-tuesday/
CATEGORIES:USkS Basel
ATTACH;FMTTYPE=image/jpeg:https://usk-switzerland.ch/wp-content/uploads/2026/01/Skizze-Ankuendigung_16-9_2-scaled.jpg
END:VEVENT
END:VCALENDAR