BEGIN:VCALENDAR
VERSION:2.0
PRODID:-//Urban Sketchers Switzerland - ECPv6.15.13//NONSGML v1.0//EN
CALSCALE:GREGORIAN
METHOD:PUBLISH
X-WR-CALNAME:Urban Sketchers Switzerland
X-ORIGINAL-URL:https://usk-switzerland.ch
X-WR-CALDESC:Events for Urban Sketchers Switzerland
REFRESH-INTERVAL;VALUE=DURATION:PT1H
X-Robots-Tag:noindex
X-PUBLISHED-TTL:PT1H
BEGIN:VTIMEZONE
TZID:Europe/Zurich
BEGIN:DAYLIGHT
TZOFFSETFROM:+0100
TZOFFSETTO:+0200
TZNAME:CEST
DTSTART:20240331T010000
END:DAYLIGHT
BEGIN:STANDARD
TZOFFSETFROM:+0200
TZOFFSETTO:+0100
TZNAME:CET
DTSTART:20241027T010000
END:STANDARD
BEGIN:DAYLIGHT
TZOFFSETFROM:+0100
TZOFFSETTO:+0200
TZNAME:CEST
DTSTART:20250330T010000
END:DAYLIGHT
BEGIN:STANDARD
TZOFFSETFROM:+0200
TZOFFSETTO:+0100
TZNAME:CET
DTSTART:20251026T010000
END:STANDARD
BEGIN:DAYLIGHT
TZOFFSETFROM:+0100
TZOFFSETTO:+0200
TZNAME:CEST
DTSTART:20260329T010000
END:DAYLIGHT
BEGIN:STANDARD
TZOFFSETFROM:+0200
TZOFFSETTO:+0100
TZNAME:CET
DTSTART:20261025T010000
END:STANDARD
END:VTIMEZONE
BEGIN:VEVENT
DTSTART;TZID=Europe/Zurich:20251213T140000
DTEND;TZID=Europe/Zurich:20251213T160000
DTSTAMP:20260420T023456
CREATED:20251212T173603Z
LAST-MODIFIED:20251230T183649Z
UID:7375-1765634400-1765641600@usk-switzerland.ch
SUMMARY:Sketchcrawl inside the Basel SBB train station
DESCRIPTION:We will meet from 2:00 p.m. to 4:00 p.m. for the last time this year to sketch:\nat 2:00 p.m. inside the Basel SBB train station\, at the “meeting point” in the ticket hall  (Link) \nThere are many different motifs. For example\, on the footbridge to the left of the escalator\, there is a sheltered spot from where you can sketch passers-by or people taking a break on the seating islands\, or shops where travelers linger. The ticket hall itself is also a beautiful space with murals from the 1920s\, which can be seen clearly from the footbridge. The station is currently decorated for Christmas. Other motifs include the west wing\, the hall leading to the French station\, historically preserved rooms that are now used for retail\, and much more. \nWe will meet at 4 p.m. to view the finished drawings. We will decide where to meet on site.
URL:https://usk-switzerland.ch/en/event/sketchcrawl-inside-the-basel-sbb-train-station/
CATEGORIES:USkS Basel
END:VEVENT
END:VCALENDAR