BEGIN:VCALENDAR
VERSION:2.0
PRODID:-//Urban Sketchers Switzerland - ECPv6.15.13//NONSGML v1.0//EN
CALSCALE:GREGORIAN
METHOD:PUBLISH
X-ORIGINAL-URL:https://usk-switzerland.ch
X-WR-CALDESC:Events for Urban Sketchers Switzerland
REFRESH-INTERVAL;VALUE=DURATION:PT1H
X-Robots-Tag:noindex
X-PUBLISHED-TTL:PT1H
BEGIN:VTIMEZONE
TZID:Europe/Zurich
BEGIN:DAYLIGHT
TZOFFSETFROM:+0100
TZOFFSETTO:+0200
TZNAME:CEST
DTSTART:20250330T010000
END:DAYLIGHT
BEGIN:STANDARD
TZOFFSETFROM:+0200
TZOFFSETTO:+0100
TZNAME:CET
DTSTART:20251026T010000
END:STANDARD
BEGIN:DAYLIGHT
TZOFFSETFROM:+0100
TZOFFSETTO:+0200
TZNAME:CEST
DTSTART:20260329T010000
END:DAYLIGHT
BEGIN:STANDARD
TZOFFSETFROM:+0200
TZOFFSETTO:+0100
TZNAME:CET
DTSTART:20261025T010000
END:STANDARD
BEGIN:DAYLIGHT
TZOFFSETFROM:+0100
TZOFFSETTO:+0200
TZNAME:CEST
DTSTART:20270328T010000
END:DAYLIGHT
BEGIN:STANDARD
TZOFFSETFROM:+0200
TZOFFSETTO:+0100
TZNAME:CET
DTSTART:20271031T010000
END:STANDARD
END:VTIMEZONE
BEGIN:VEVENT
DTSTART;TZID=Europe/Zurich:20260425T100000
DTEND;TZID=Europe/Zurich:20260425T120000
DTSTAMP:20260419T185443
CREATED:20260414T152742Z
LAST-MODIFIED:20260414T180740Z
UID:9138-1777111200-1777118400@usk-switzerland.ch
SUMMARY:USk Yverdon du 25 avril
DESCRIPTION:Notre prochaine rencontre\, qui aura lieu le samedi 25 avril.\nNous vous proposons de dessiner au quai de Nogent.\nEn plus de l’ambiance du bord du lac\, nous y trouverons la belle ambiance de la brocante traditionnelle d’Yverdon\, ce jour-là… de quoi nourrir notre carnet ! \n📍 Rendez-vous devant l’embarcadère du quai de Nogent à 10h. \nAu plaisir de croquer ensemble !
URL:https://usk-switzerland.ch/en/event/usk-yverdon-du-25-avril/
CATEGORIES:USkS Yverdon
ATTACH;FMTTYPE=image/png:https://usk-switzerland.ch/wp-content/uploads/2026/04/USK_annonce_avril_26_01_01.png
END:VEVENT
BEGIN:VEVENT
DTSTART;TZID=Europe/Zurich:20260425T140000
DTEND;TZID=Europe/Zurich:20260425T160000
DTSTAMP:20260419T185443
CREATED:20260407T174100Z
LAST-MODIFIED:20260407T175146Z
UID:9071-1777125600-1777132800@usk-switzerland.ch
SUMMARY:Josyfolie du 25 avril 2026  : Sketchwalk à la Neuveville au bas du funiculaire. Fribourg
DESCRIPTION:Arc-en-Ciel de verts\nVert-Fraîcheur\, Vert-Candeur\nAvril explose !\n \nHello Toi\n\nDans l’esprit de ce haÏku\, viens exploser de couleurs et croquer avec moi ce printemps bourgeonnant et ces anciennes bâtisses qui s’éveillent de l’hiver !\n\nRendez-vous le samedi 25 avril 2026 à 14h à La Neuveville  (Fribourg)\, au bas du funiculaire\, vers la porte d’accès.\n\n\n\n\nNous suivrons le manifeste des Urban Sketchers https://urbansketchers.org/\n\n\n• Pour tout style\, tout niveau et tout âge. \n• Avec zéro inscription\, zéro franc et zéro jugement \n\n\n !\n\nAvec coeur \n\n\n\n\n\n\n\n\n\n\n\n\n\n\n\n\n\n\nJosy\n\n\n\n\n\n\n\n\n\n\n\n\n\n\n\n\n\n\n\n\n\n\n\n\n\n\n\n\n\n\n\n\n\n\n\n\n\n\n\n\nPS. Les escaliers du funiculaire étaient fermés dernièrement pour cause de travaux \n+41 79 237 47 85
URL:https://usk-switzerland.ch/en/event/josyfolie-du-25-avril-2026-davril-sketchwalk-a-la-neuveville-au-bas-du-funiculaire/
CATEGORIES:USkS Fribourg
ATTACH;FMTTYPE=image/jpeg:https://usk-switzerland.ch/wp-content/uploads/2026/04/20260402_144238_resized.jpg
END:VEVENT
BEGIN:VEVENT
DTSTART;TZID=Europe/Zurich:20260425T140000
DTEND;TZID=Europe/Zurich:20260425T160000
DTSTAMP:20260419T185443
CREATED:20260417T085858Z
LAST-MODIFIED:20260417T201056Z
UID:9046-1777125600-1777132800@usk-switzerland.ch
SUMMARY:Saturday\, 25 April 2026: Sketchcrawl at Vogesenplatz/St. Johann Station\, Basel
DESCRIPTION:At St. Johann railway station\, behind the ‘Stellwerk’\, there is a fascinating spot. In the lovingly landscaped ‘Il Giardino Urbano’\, you can wander along the winding path at any time and linger on garden furniture beside old tracks and carriages\, cosily nestled amongst the greenery\, with a view of the steam rising from the waste incineration plant in the distance. \nThe view from the bridge\, accessible by lift\, is also well worth a visit. The former Stellwerk is now an attractive workplace and a hub for cultural and creative professionals from all sectors. There is also a steam bath here with an original entrance design. \nThe view of Vogesenplatz in front of the signal box offers plenty of everyday scenes. At 2 pm\, the stalls of the weekly market are being dismantled\, but the square provides plenty of subjects with its seating areas and green spaces\, bridge\, spiral staircase\, Coop entrance\, tram stop with pergola\, passers-by and distinctive buildings. \nMeeting point: 2.00 pm at the St. Johann railway station tram stop\, under the roof of the old customs hall to the right of the Stellwerk. We will also meet there at 4.00 pm to show each other our sketches. \nMore informations: \nIl Giardino Urbano https://www.stellwerkbasel.ch/anker-mieter/giardino-urbano#/ \nStellwerk https://www.stellwerkbasel.ch
URL:https://usk-switzerland.ch/en/event/saturday-25-april-2026-sketchcrawl-basel/
CATEGORIES:USkS Basel
ATTACH;FMTTYPE=image/jpeg:https://usk-switzerland.ch/wp-content/uploads/2026/04/01_20260414_102652-scaled.jpg
END:VEVENT
END:VCALENDAR