BEGIN:VCALENDAR
VERSION:2.0
PRODID:-//Urban Sketchers Switzerland - ECPv6.15.13//NONSGML v1.0//EN
CALSCALE:GREGORIAN
METHOD:PUBLISH
X-ORIGINAL-URL:https://usk-switzerland.ch
X-WR-CALDESC:Events for Urban Sketchers Switzerland
REFRESH-INTERVAL;VALUE=DURATION:PT1H
X-Robots-Tag:noindex
X-PUBLISHED-TTL:PT1H
BEGIN:VTIMEZONE
TZID:Europe/Zurich
BEGIN:DAYLIGHT
TZOFFSETFROM:+0100
TZOFFSETTO:+0200
TZNAME:CEST
DTSTART:20250330T010000
END:DAYLIGHT
BEGIN:STANDARD
TZOFFSETFROM:+0200
TZOFFSETTO:+0100
TZNAME:CET
DTSTART:20251026T010000
END:STANDARD
BEGIN:DAYLIGHT
TZOFFSETFROM:+0100
TZOFFSETTO:+0200
TZNAME:CEST
DTSTART:20260329T010000
END:DAYLIGHT
BEGIN:STANDARD
TZOFFSETFROM:+0200
TZOFFSETTO:+0100
TZNAME:CET
DTSTART:20261025T010000
END:STANDARD
BEGIN:DAYLIGHT
TZOFFSETFROM:+0100
TZOFFSETTO:+0200
TZNAME:CEST
DTSTART:20270328T010000
END:DAYLIGHT
BEGIN:STANDARD
TZOFFSETFROM:+0200
TZOFFSETTO:+0100
TZNAME:CET
DTSTART:20271031T010000
END:STANDARD
END:VTIMEZONE
BEGIN:VEVENT
DTSTART;TZID=Europe/Zurich:20260314T100000
DTEND;TZID=Europe/Zurich:20260314T123000
DTSTAMP:20260419T202909
CREATED:20260304T002503Z
LAST-MODIFIED:20260304T002954Z
UID:8695-1773482400-1773491400@usk-switzerland.ch
SUMMARY:Sketchcrawl in Mellingen
DESCRIPTION:Sketchcrawl in Mellingen \nSaturday\, March 14 and May 17\, 2026\, 10 a.m. – 12:30 p.m.\, meeting point – Stadtscheune\, Scheunengasse 7\, Mellingen \n📍 Sketchcrawl in Mellingen. The old town of Mellingen offers so many beautiful spots that invite you to draw! That’s why we’re doing two sketchcrawls here – one on March 14 and one on May 17. \n👉 The occasion is International Museum Day. What a wonderful thought that we will be part of this event! I was asked by the cultural officer of the city of Mellingen if we could do something together. I agreed. We will be able to exhibit the pictures created here directly: the opening is on May 17\, immediately after our sketch crawl in the Stadtscheune\, at 2 p.m. Feel free to join us! \nIf you would like to visit Mellingen on your own in the meantime and sketch the town\, and if you would also like to participate in the exhibition\, please send your pictures (with your address written on the back) directly to: Yvonne Fischer\, Director of the Stadtscheune\, Scheunengasse 7\, 5507 Mellingen.
URL:https://usk-switzerland.ch/en/event/sketchcrawl-in-mellingen/
CATEGORIES:USkS Aargau
ATTACH;FMTTYPE=image/png:https://usk-switzerland.ch/wp-content/uploads/2026/03/Kopie-von-Sketchcrawl-Praesentation-43.png
END:VEVENT
END:VCALENDAR