BEGIN:VCALENDAR
VERSION:2.0
PRODID:-//Urban Sketchers Switzerland - ECPv6.15.13//NONSGML v1.0//EN
CALSCALE:GREGORIAN
METHOD:PUBLISH
X-ORIGINAL-URL:https://usk-switzerland.ch
X-WR-CALDESC:Events for Urban Sketchers Switzerland
REFRESH-INTERVAL;VALUE=DURATION:PT1H
X-Robots-Tag:noindex
X-PUBLISHED-TTL:PT1H
BEGIN:VTIMEZONE
TZID:Europe/Zurich
BEGIN:DAYLIGHT
TZOFFSETFROM:+0100
TZOFFSETTO:+0200
TZNAME:CEST
DTSTART:20250330T010000
END:DAYLIGHT
BEGIN:STANDARD
TZOFFSETFROM:+0200
TZOFFSETTO:+0100
TZNAME:CET
DTSTART:20251026T010000
END:STANDARD
BEGIN:DAYLIGHT
TZOFFSETFROM:+0100
TZOFFSETTO:+0200
TZNAME:CEST
DTSTART:20260329T010000
END:DAYLIGHT
BEGIN:STANDARD
TZOFFSETFROM:+0200
TZOFFSETTO:+0100
TZNAME:CET
DTSTART:20261025T010000
END:STANDARD
BEGIN:DAYLIGHT
TZOFFSETFROM:+0100
TZOFFSETTO:+0200
TZNAME:CEST
DTSTART:20270328T010000
END:DAYLIGHT
BEGIN:STANDARD
TZOFFSETFROM:+0200
TZOFFSETTO:+0100
TZNAME:CET
DTSTART:20271031T010000
END:STANDARD
END:VTIMEZONE
BEGIN:VEVENT
DTSTART;TZID=Europe/Zurich:20260222T080000
DTEND;TZID=Europe/Zurich:20260222T170000
DTSTAMP:20260419T215258
CREATED:20260222T103159Z
LAST-MODIFIED:20260222T103451Z
UID:8583-1771747200-1771779600@usk-switzerland.ch
SUMMARY:28.02.26 : Invitation au sketchwalk à la gare routière de Fribourg
DESCRIPTION:Hello Toi !\n\nFin février et son temps incertain ? Allons-nous mettre à l’abri à la Gare Routière de Fribourg pour croquer sur le vif\n\n\nEnfilade de colonnades\nVoyageurs  pressés\nPassagers en attente\nPigeons indifférents\nAmas de vélos\nAutobus au garde-à-vous etc.\, etc.\n\n\n\nEt s’il fait beau\, nous sortirons et nous installerons sur la passerelle qui traverse la Rue Louis-d’affry\, pour croquer en live le trafic et son dynamisme\n\n\nRendez-vous samedi à 14h00 devant la boutique Bretzelkönig\n\n\nNous suivrons le manifeste des https://urbansketchers.org/\n\n\n• Pour tout style\, tout niveau et tout âge. \n• Avec zéro inscription\, zéro franc et zéro jugement \n\n\n\n\nAvec coeur \n\n\n\n\n\n\n\n\n\n\n\n\n\n\n\n\n\n\n\nJosy \n+41 79 237 47 85 \n«  Rallume des💥 dans les coeurs ❤️ ! »
URL:https://usk-switzerland.ch/en/event/28-02-26-invitation-au-sketchwalk-a-la-gare-routiere-de-fribourg/
CATEGORIES:USkS Fribourg
ATTACH;FMTTYPE=image/jpeg:https://usk-switzerland.ch/wp-content/uploads/2026/02/20260126_162010_resized_1.jpg
END:VEVENT
BEGIN:VEVENT
DTSTART;TZID=Europe/Zurich:20260222T100000
DTEND;TZID=Europe/Zurich:20260222T120000
DTSTAMP:20260419T215258
CREATED:20260215T092651Z
LAST-MODIFIED:20260215T092651Z
UID:8432-1771754400-1771761600@usk-switzerland.ch
SUMMARY:Sonntag 22. Februar 2026\, Gameorama Luzern
DESCRIPTION:Spielerisches Zeichnen – das ist unser Motto für Februar! Wir treffen uns im interaktiven Spielmuseum Gameorama in Luzern. Von alten Flipper-Kästen über Arcade-Automaten bis zu modernen Videospielen oder einer Virtual-Reality-Arena finden sich hier jede Menge Sujets. Ausserdem gibt es ein Café mit einer Brettspiel-Bibliothek. Die Spiele können alle ausprobiert werden\, aber nicht vergessen\, wir kommen zum Zeichnen. \nEin eigener Hocker ist von Vorteil\, da die meisten Sitzplätze für Spielende reserviert sind. \nEintritt: CHF 25.– (gratis mit Raiffeisen-Mitgliederkarte oder Museumspass) \nWann: Sonntag 22. Februar 2026\nZeit: von 10:00 bis 12:00\nWo: Gameorama\, Hirschengraben 49\, Luzern \nDas Treffen ist für alle\, die gerne zeichnen. Man muss sich nicht anmelden und es kostet auch nichts. Einfach eigenes Zeichen-Material und evtl. Hocker mitbringen und los geht’s.
URL:https://usk-switzerland.ch/en/event/sonntag-22-februar-2026-gameorama-luzern/
CATEGORIES:USkS Lucerne
ATTACH;FMTTYPE=image/jpeg:https://usk-switzerland.ch/wp-content/uploads/2026/02/Blog_gameorama-2026.jpg
END:VEVENT
BEGIN:VEVENT
DTSTART;TZID=Europe/Zurich:20260222T100000
DTEND;TZID=Europe/Zurich:20260222T123000
DTSTAMP:20260419T215258
CREATED:20260216T112629Z
LAST-MODIFIED:20260216T112659Z
UID:8465-1771754400-1771763400@usk-switzerland.ch
SUMMARY:Sketches of the Past: Session at the Museum of Archaeology and History
DESCRIPTION:Since it might still be cold\, for our fifth meetup we suggest gathering together and travelling to another era: \n\nLet’s head to the Cantonal Museum of Archaeology and History – Palais de Rumine (free entrance). \nCome sketch the remains of the past\, animals\, ancient silhouettes\, and hidden treasures\, bringing them back to life in our sketchbooks.\nWe can’t wait to see you again for this new morning of drawing and sharing! \nAnd for those who are up for it\, we can grab a coffee afterwards – just across from the Palais de Rumine at Sleepy Bar Coffee Riponne.
URL:https://usk-switzerland.ch/en/event/sketches-of-the-past-session-at-the-museum-of-archaeology-and-history/
CATEGORIES:USkS Lausanne
ATTACH;FMTTYPE=image/jpeg:https://usk-switzerland.ch/wp-content/uploads/2026/02/archeo_usk.jpeg
END:VEVENT
BEGIN:VEVENT
DTSTART;TZID=Europe/Zurich:20260222T140000
DTEND;TZID=Europe/Zurich:20260222T160000
DTSTAMP:20260419T215258
CREATED:20260220T120404Z
LAST-MODIFIED:20260220T120404Z
UID:8569-1771768800-1771776000@usk-switzerland.ch
SUMMARY:Urban Sketchers Treffen in Solothurn
DESCRIPTION:Diesen Sonntag zeichnen wir im Museum altes Zeughaus in Solothurn. Treffpunkt ist um 14 Uhr vor bzw. im Museum.\nOrganisatorisches: Der Eintritt beträgt 8.- und die Rucksäcke müssen in den Schliessfächern verstaut werden. Es stehen Hocker zur Verfügung und aufgrund des Alters des Hauses sollte auf offenes Wasser verzichtet werden. Wassertankpinsel sind gestattet.\nZeichnungsort: Das alte Zeughaus war früher Aufbewahrungsort der Wehrausrüstung der Solothurner Bürger sowie Waffen- und Rüstungslager der Söldner. Heutzutage werden eben diese Ausrüstungen gezeigt: Von Schwertern über Lanzen\, Schusswaffen und Kanonen\, Armbrüste und Uniformen\, die Auswahl ist riesig. Im zweiten Stock befindet sich er Rüstsaal mit seinen rund 400 Rüstungen\, welche alle einzigartig in Form\, Ausstattung und Dekoration sind. In Laufnähe befindet sich die Solothurner Altstadt mit der St.Ursen-Kathedrale oder den Stadttoren\, aber auch das Aareufer.
URL:https://usk-switzerland.ch/en/event/urban-sketchers-treffen-in-solothurn/
CATEGORIES:USkS Biel/Bienne
ATTACH;FMTTYPE=image/jpeg:https://usk-switzerland.ch/wp-content/uploads/2026/02/IMG_6645.jpeg
END:VEVENT
BEGIN:VEVENT
DTSTART;TZID=Europe/Zurich:20260222T140000
DTEND;TZID=Europe/Zurich:20260222T170000
DTSTAMP:20260419T215258
CREATED:20260216T181204Z
LAST-MODIFIED:20260219T132327Z
UID:8523-1771768800-1771779600@usk-switzerland.ch
SUMMARY:USk Dreiländereck Monatstreffen
DESCRIPTION:Monatstreffen am Sonntag\, 22. Februar 2026 um 14 Uhr: \nFeuerwehrmuseum Basel (nur am Sonntag ab 14h geöffnet) \nhttps://www.bs.ch/jsd/rettung/unsere-organisation/feuerwehr/feuerwehrmuseum \nDie Objekte im Museum sind dicht gedrängt und bieten viele Details. Kompakter Raum mit unterschiedlichsten Perspektiven\, die wir zeichnerisch erfassen können. \nAnschliessend können wir uns im Arte Giardino im EG des Unispital um ca. 16 Uhr zum Austausch treffen. \nhttps://maps.app.goo.gl/gg7KR8hYzjYbPkay7 \n \n\n\n\n\n\n 
URL:https://usk-switzerland.ch/en/event/usk-dreilaendereck-monatstreffen/
CATEGORIES:USkS Dreiländereck
ATTACH;FMTTYPE=image/png:https://usk-switzerland.ch/wp-content/uploads/2026/02/unnamed.png
END:VEVENT
END:VCALENDAR