BEGIN:VCALENDAR
VERSION:2.0
PRODID:-//Urban Sketchers Switzerland - ECPv6.15.13//NONSGML v1.0//EN
CALSCALE:GREGORIAN
METHOD:PUBLISH
X-WR-CALNAME:Urban Sketchers Switzerland
X-ORIGINAL-URL:https://usk-switzerland.ch
X-WR-CALDESC:Events for Urban Sketchers Switzerland
REFRESH-INTERVAL;VALUE=DURATION:PT1H
X-Robots-Tag:noindex
X-PUBLISHED-TTL:PT1H
BEGIN:VTIMEZONE
TZID:Europe/Zurich
BEGIN:DAYLIGHT
TZOFFSETFROM:+0100
TZOFFSETTO:+0200
TZNAME:CEST
DTSTART:20250330T010000
END:DAYLIGHT
BEGIN:STANDARD
TZOFFSETFROM:+0200
TZOFFSETTO:+0100
TZNAME:CET
DTSTART:20251026T010000
END:STANDARD
BEGIN:DAYLIGHT
TZOFFSETFROM:+0100
TZOFFSETTO:+0200
TZNAME:CEST
DTSTART:20260329T010000
END:DAYLIGHT
BEGIN:STANDARD
TZOFFSETFROM:+0200
TZOFFSETTO:+0100
TZNAME:CET
DTSTART:20261025T010000
END:STANDARD
BEGIN:DAYLIGHT
TZOFFSETFROM:+0100
TZOFFSETTO:+0200
TZNAME:CEST
DTSTART:20270328T010000
END:DAYLIGHT
BEGIN:STANDARD
TZOFFSETFROM:+0200
TZOFFSETTO:+0100
TZNAME:CET
DTSTART:20271031T010000
END:STANDARD
END:VTIMEZONE
BEGIN:VEVENT
DTSTART;TZID=Europe/Zurich:20260221T140000
DTEND;TZID=Europe/Zurich:20260221T160000
DTSTAMP:20260419T215133
CREATED:20260216T172826Z
LAST-MODIFIED:20260130T101401Z
UID:8260-1771682400-1771689600@usk-switzerland.ch
SUMMARY:Basel Carnival\, exhibition
DESCRIPTION:Two days before the Morgestraich\, we visit the permanent exhibition on Basel Carnival at the Museum of Cultures. The historic rooms convey the carnival atmosphere. They are filled with mostly historical artefacts that give Basel Carnival its distinctive character.\nIt is fun to sketch these\, as it invites you to exaggerate and caricature. Children also have fun here. Link: information about the Basel Carnival exhibition \nParticipation by registration only.\nThe exhibition is located in an annex of the museum\, where space is limited. The number of participants and the length of stay are therefore restricted\, and registration with Herrat (email address: herrat-usk@bluewin.ch) is required.\nWe will form two groups. Up to 10 people per group will have one hour to visit the exhibition:\nGroup 1: 2:00–3:00 p.m.\nGroup 2: 3:00–4:00 p.m.\nThe first 10 registrations will be in the first group from 2:00 to 3:00 p.m.\, and the following registrations will be in the second group. If only 10 people register\, they can stay for the entire two hours. \nMeeting points\nSaturday\, 21 February 2026\, Museum der Kulturen Basel\, Münsterplatz 20 \n1st group: 1:40 p.m. in the entrance hall at the ticket office\n2nd group: 2:40 p.m. in the entrance hall at the ticket office\nBoth groups: 4 p.m. viewing of the sketches\, also in the entrance hall at the ticket office \nFurther information\nPlease bring your own folding stool. Liquids are not permitted in the museum\, so no materials for wet sketching\, Exhibition rooms not accessible by lift
URL:https://usk-switzerland.ch/en/event/basel-carnival-exhibition/
CATEGORIES:USkS Basel
ATTACH;FMTTYPE=image/jpeg:https://usk-switzerland.ch/wp-content/uploads/2026/01/Skizze-Ankuendigung_16-9_2-scaled.jpg
END:VEVENT
END:VCALENDAR